BEGIN:VCALENDAR
VERSION:2.0
PRODID:-//Maison de la Nature du Delta de la Sauer et d’Alsace du nord - ECPv6.15.18//NONSGML v1.0//EN
CALSCALE:GREGORIAN
METHOD:PUBLISH
X-ORIGINAL-URL:https://www.nature-munchhausen.org
X-WR-CALDESC:Évènements pour Maison de la Nature du Delta de la Sauer et d’Alsace du nord
REFRESH-INTERVAL;VALUE=DURATION:PT1H
X-Robots-Tag:noindex
X-PUBLISHED-TTL:PT1H
BEGIN:VTIMEZONE
TZID:Europe/Paris
BEGIN:DAYLIGHT
TZOFFSETFROM:+0100
TZOFFSETTO:+0200
TZNAME:CEST
DTSTART:20250330T010000
END:DAYLIGHT
BEGIN:STANDARD
TZOFFSETFROM:+0200
TZOFFSETTO:+0100
TZNAME:CET
DTSTART:20251026T010000
END:STANDARD
BEGIN:DAYLIGHT
TZOFFSETFROM:+0100
TZOFFSETTO:+0200
TZNAME:CEST
DTSTART:20260329T010000
END:DAYLIGHT
BEGIN:STANDARD
TZOFFSETFROM:+0200
TZOFFSETTO:+0100
TZNAME:CET
DTSTART:20261025T010000
END:STANDARD
BEGIN:DAYLIGHT
TZOFFSETFROM:+0100
TZOFFSETTO:+0200
TZNAME:CEST
DTSTART:20270328T010000
END:DAYLIGHT
BEGIN:STANDARD
TZOFFSETFROM:+0200
TZOFFSETTO:+0100
TZNAME:CET
DTSTART:20271031T010000
END:STANDARD
END:VTIMEZONE
BEGIN:VEVENT
DTSTART;TZID=Europe/Paris:20260606T090000
DTEND;TZID=Europe/Paris:20260606T120000
DTSTAMP:20260419T214618
CREATED:20260210T092100Z
LAST-MODIFIED:20260220T095119Z
UID:3633-1780736400-1780747200@www.nature-munchhausen.org
SUMMARY:Initiation à un inventaire naturaliste
DESCRIPTION:Le sanctuaire de la forêt du Boesch est un petit bout de nature retourné à l’état\nsauvage. Délaissé par les humains depuis de nombreuses années\, son intérêt\nnaturaliste semble important. Afin d’en évaluer son réel potentiel biologique\, la Maison de la Nature du Delta de la Sauer et d’Alsace du Nord\, en association avec le Parc Naturel Régional des Vosges du Nord\, prévoit d’y réaliser un inventaire de biodiversité. Ainsi\, divers spécialistes de la faune et de la flore seront conviés\, durant cette journée\, à effectuer des recensements d’espèces. Ecoute des chants d’oiseaux\, capture et détermination des invertébrés de la litière et du bois mort\, reconnaissance des plantes… Autant d’études auxquelles vous pourrez prendre part si vous vous sentez l’âme d’un apprenti naturaliste ! Inventaire ouvert aux curieux de nature\, initiés ou non. \nInventaire organisé en partenariat avec le Parc Naturel Régional des Vosges du Nord et la commune de Wingen \nWingen \nHeure et lieu de RDV communiqués à l’inscription (obligatoire au plus tard le vendredi 5 juin jusqu’à 12h00) \nIntervenants : naturalistes aux compétences diverses (ornithologie\, entomologie\, botanique…) \nParticipation : Animation non payante et ouverte à toutes/tous  \nAvec possibilité de prolongement sur l’après-midi
URL:https://www.nature-munchhausen.org/event/initiation-a-un-inventaire-naturaliste/
ATTACH;FMTTYPE=image/jpeg:https://www.nature-munchhausen.org/wp-content/uploads/2026/02/Inventaire-naturaliste-2.jpg
END:VEVENT
BEGIN:VEVENT
DTSTART;TZID=Europe/Paris:20260612T190000
DTEND;TZID=Europe/Paris:20260612T210000
DTSTAMP:20260419T214618
CREATED:20260210T101924Z
LAST-MODIFIED:20260220T095044Z
UID:3635-1781290800-1781298000@www.nature-munchhausen.org
SUMMARY:De balades en ballades
DESCRIPTION:Laissez-vous bercer par une promenade forestière agrémentée de chansons qui sentent bon l’humus\, la fraîcheur du sous-bois et la douceur de l’écorce. Moment animé par la Fine Bouche. \nBalade musicale organisée en partenariat avec le Parc Naturel Régional des Vosges du Nord et la commune de Wingen \nWingen \nHeure et lieu de RDV communiqués à l’inscription (obligatoire au plus tard le jour même jusqu’à 12h00) \nIntervenants : Ensemble de la Fine Bouche \nParticipation : Balade chantée non payante
URL:https://www.nature-munchhausen.org/event/de-balades-en-ballades/
ATTACH;FMTTYPE=image/jpeg:https://www.nature-munchhausen.org/wp-content/uploads/2026/02/Inventaire-naturaliste.jpg
END:VEVENT
BEGIN:VEVENT
DTSTART;TZID=Europe/Paris:20260613T090000
DTEND;TZID=Europe/Paris:20260613T170000
DTSTAMP:20260419T214618
CREATED:20260210T102300Z
LAST-MODIFIED:20260210T102300Z
UID:3638-1781341200-1781370000@www.nature-munchhausen.org
SUMMARY:L’art au coeur du sauvage
DESCRIPTION:Quand la nature «sauvage» inspire les artistes… Ce stage d’une journée vous initiera au dessin à l’aquarelle et vous immergera dans un site naturel remarquable classé «sanctuaire de nature». Bois mort\, champignons\, lianes et autres ambiances sauvages vous serviront de sujet dans un décor naturel préservé. \nSortie organisée en partenariat avec le Parc Naturel Régional des Vosges du Nord et la commune de Wingen \nA prévoir : petit siège pliant (de pêcheur ou de camping) · Le matériel sera fourni par l’intervenante. \nWingen \nHeure et lieu de RDV communiqués à l’inscription (obligatoire au plus tard le mercredi 10 juin jusqu’à 17h00) \nIntervenante : Jordane Desjardins\, graphiste\, artiste peintre et fresquiste \nParticipation : Stage non payant et limité à 8 participants
URL:https://www.nature-munchhausen.org/event/lart-au-coeur-du-sauvage/
ATTACH;FMTTYPE=image/jpeg:https://www.nature-munchhausen.org/wp-content/uploads/2022/03/08-26-2022_encre-de-plantes.jpg
END:VEVENT
BEGIN:VEVENT
DTSTART;TZID=Europe/Paris:20260621T093000
DTEND;TZID=Europe/Paris:20260621T120000
DTSTAMP:20260419T214618
CREATED:20220304T093753Z
LAST-MODIFIED:20260113T140733Z
UID:2175-1782034200-1782043200@www.nature-munchhausen.org
SUMMARY:Les pouvoirs bienfaisants des arbres
DESCRIPTION:Les arbres qui constituent nos haies ou nos forêts\, même isolés au fond du jardin\, nous rendent de multiples services : fraîcheur\, ombre\, humidité\, bien-être… Et pas que pour les humains ! Ils sont aussi des refuges pour la biodiversité. Venez identifier quelques essences et en apprendre davantage sur leur fonctionnement ! \nA prévoir : une tenue de terrain\, un crayon et un carnet pour faire son herbier \nDimanche 21 juin 2026\, matin \nHaguenau. Heure et lieu de RDV communiqués à l’inscription (obligatoire au plus tard vendredi 19 juin jusqu’à 16h) \n  \nIntervenante : Marion LY\, animatrice nature \nParticipation : sortie non payante
URL:https://www.nature-munchhausen.org/event/les-arbres-de-nos-forets/
LOCATION:Haguenau\, Hagueneau
ATTACH;FMTTYPE=image/jpeg:https://www.nature-munchhausen.org/wp-content/uploads/2023/01/arbres.jpg
END:VEVENT
END:VCALENDAR