BEGIN:VCALENDAR
VERSION:2.0
PRODID:-//Maison de la Nature du Delta de la Sauer et d’Alsace du nord - ECPv6.15.18//NONSGML v1.0//EN
CALSCALE:GREGORIAN
METHOD:PUBLISH
X-ORIGINAL-URL:https://www.nature-munchhausen.org
X-WR-CALDESC:Évènements pour Maison de la Nature du Delta de la Sauer et d’Alsace du nord
REFRESH-INTERVAL;VALUE=DURATION:PT1H
X-Robots-Tag:noindex
X-PUBLISHED-TTL:PT1H
BEGIN:VTIMEZONE
TZID:Europe/Paris
BEGIN:DAYLIGHT
TZOFFSETFROM:+0100
TZOFFSETTO:+0200
TZNAME:CEST
DTSTART:20250330T010000
END:DAYLIGHT
BEGIN:STANDARD
TZOFFSETFROM:+0200
TZOFFSETTO:+0100
TZNAME:CET
DTSTART:20251026T010000
END:STANDARD
BEGIN:DAYLIGHT
TZOFFSETFROM:+0100
TZOFFSETTO:+0200
TZNAME:CEST
DTSTART:20260329T010000
END:DAYLIGHT
BEGIN:STANDARD
TZOFFSETFROM:+0200
TZOFFSETTO:+0100
TZNAME:CET
DTSTART:20261025T010000
END:STANDARD
BEGIN:DAYLIGHT
TZOFFSETFROM:+0100
TZOFFSETTO:+0200
TZNAME:CEST
DTSTART:20270328T010000
END:DAYLIGHT
BEGIN:STANDARD
TZOFFSETFROM:+0200
TZOFFSETTO:+0100
TZNAME:CET
DTSTART:20271031T010000
END:STANDARD
END:VTIMEZONE
BEGIN:VEVENT
DTSTART;TZID=Europe/Paris:20260522T190000
DTEND;TZID=Europe/Paris:20260522T220000
DTSTAMP:20260419T202645
CREATED:20190204T104819Z
LAST-MODIFIED:20251219T155159Z
UID:928-1779476400-1779487200@www.nature-munchhausen.org
SUMMARY:La forêt alluviale au clair de lune
DESCRIPTION:Le parcours botanique de Stattmatten situé en forêt alluviale est un écrin de biodiversité. Ici la flore est luxuriante et elle offre aux animaux de la nourriture en abondance et des possibilités de gîtes en grand nombre. Pourtant la plupart des promeneurs ne s’aperçoivent pas de la richesse de ce lieu. \nLors de la sortie\, l’animatrice aura à cœur de vous faire découvrir les trésors floristiques et faunistiques du milieu. Et petite cerise sur le gâteau : ceci en fin de journée pour découvrir les hôtes nocturnes des lieux. \nSortie organisée en partenariat avec la Région Grand Est \nVendredi 22 mai\, soirée \nStattmatten Heure et lieu de RDV communiqués à l’inscription (obligatoire au plus tard le vendredi 22 mai jusqu’à 12h00) \nEnfant de + de 10 ans \nIntervenante : Magali SAVIO\, animatrice nature \nParticipation : Sortie non payante \nSortie adaptée aux personnes en situation de handicap
URL:https://www.nature-munchhausen.org/event/17-mai-la-foret-alluviale-au-clair-de-lune/
LOCATION:Stattmatten\, 67770\, France
ATTACH;FMTTYPE=image/png:https://www.nature-munchhausen.org/wp-content/uploads/2023/06/IMG-20240629-WA0010.png
END:VEVENT
BEGIN:VEVENT
DTSTART;TZID=Europe/Paris:20260522T203000
DTEND;TZID=Europe/Paris:20260522T223000
DTSTAMP:20260419T202645
CREATED:20220304T094102Z
LAST-MODIFIED:20260113T132327Z
UID:2178-1779481800-1779489000@www.nature-munchhausen.org
SUMMARY:à la découverte des chauve-souris
DESCRIPTION:Les chauve-souris sont les seuls mammifères volants présents en France. Elles sont mystérieuses et fascinantes à la fois. Venez découvrir à la tombée de la nuit leur mode de vie et tentons ensemble de les observer et de les entendre grâce à un détecteur. \nA prévoir : une petite lampe (si besoin) \nSortie organisée en partenariat avec la communauté de communes de la Basse Zorn \nKurtzenhouse. Heure et lieu de RDV communiqués à l’inscription (obligatoire au plus tard le jour-même jusqu’à 12h) \nIntervenante : Marion LY\, animatrice nature \nParticipation : sortie non payante
URL:https://www.nature-munchhausen.org/event/lunivers-des-chauve-souris/
LOCATION:Kurtzenhouse\, Kurtzenhouse
ATTACH;FMTTYPE=image/jpeg:https://www.nature-munchhausen.org/wp-content/uploads/2022/03/chauve-souris.jpg
END:VEVENT
BEGIN:VEVENT
DTSTART;TZID=Europe/Paris:20260523T140000
DTEND;TZID=Europe/Paris:20260523T170000
DTSTAMP:20260419T202645
CREATED:20260210T090433Z
LAST-MODIFIED:20260210T091243Z
UID:3627-1779544800-1779555600@www.nature-munchhausen.org
SUMMARY:Initiatives pour la biodiversité en ville
DESCRIPTION:Découvrez l’Oasis de Biodiversité\, transformation spectaculaire d’une zone urbaine stérile en un refuge verdoyant et apaisant. Nos guides vous emmèneront à travers des sentiers enchanteurs où vous pourrez admirer une profusion de vivaces mellifères\, des arbres fruitiers\, une haie champêtre… et entendre le bourdonnement joyeux des abeilles. Que vous soyez un passionné de nature ou un citadin en quête de calme\, l’Oasis de Biodiversité offre une expérience immersive au cœur de la ville. \nSortie organisée en partenariat avec l’Oasis de Biodiversité à Bischwiller \nA prévoir : Chaussures adaptées selon la météo \nBischwiller \nHeure et lieu du RDV communiqués à l’inscription (obligatoire au plus tard le vendredi 22 mai jusqu’à 18 heures) au 03 88 53 88 77 \nIntervenants : Guy et Véronique Kratz\, initiateurs de l’Oasis de Biodiversité à Bischwiller \nParticipation : Sortie non payante
URL:https://www.nature-munchhausen.org/event/initiatives-pour-la-biodiversite-en-ville/
ATTACH;FMTTYPE=image/jpeg:https://www.nature-munchhausen.org/wp-content/uploads/2026/02/579923000_4048611115404682_8774769017347866284_n-1.jpg
END:VEVENT
END:VCALENDAR