BEGIN:VCALENDAR
VERSION:2.0
PRODID:-//Maison de la Nature du Delta de la Sauer et d’Alsace du nord - ECPv6.15.18//NONSGML v1.0//EN
CALSCALE:GREGORIAN
METHOD:PUBLISH
X-WR-CALNAME:Maison de la Nature du Delta de la Sauer et d’Alsace du nord
X-ORIGINAL-URL:https://www.nature-munchhausen.org
X-WR-CALDESC:Évènements pour Maison de la Nature du Delta de la Sauer et d’Alsace du nord
REFRESH-INTERVAL;VALUE=DURATION:PT1H
X-Robots-Tag:noindex
X-PUBLISHED-TTL:PT1H
BEGIN:VTIMEZONE
TZID:Europe/Paris
BEGIN:DAYLIGHT
TZOFFSETFROM:+0100
TZOFFSETTO:+0200
TZNAME:CEST
DTSTART:20250330T010000
END:DAYLIGHT
BEGIN:STANDARD
TZOFFSETFROM:+0200
TZOFFSETTO:+0100
TZNAME:CET
DTSTART:20251026T010000
END:STANDARD
BEGIN:DAYLIGHT
TZOFFSETFROM:+0100
TZOFFSETTO:+0200
TZNAME:CEST
DTSTART:20260329T010000
END:DAYLIGHT
BEGIN:STANDARD
TZOFFSETFROM:+0200
TZOFFSETTO:+0100
TZNAME:CET
DTSTART:20261025T010000
END:STANDARD
BEGIN:DAYLIGHT
TZOFFSETFROM:+0100
TZOFFSETTO:+0200
TZNAME:CEST
DTSTART:20270328T010000
END:DAYLIGHT
BEGIN:STANDARD
TZOFFSETFROM:+0200
TZOFFSETTO:+0100
TZNAME:CET
DTSTART:20271031T010000
END:STANDARD
END:VTIMEZONE
BEGIN:VEVENT
DTSTART;TZID=Europe/Paris:20260125T093000
DTEND;TZID=Europe/Paris:20260125T120000
DTSTAMP:20260419T232700
CREATED:20260113T130956Z
LAST-MODIFIED:20260113T130956Z
UID:3606-1769333400-1769342400@www.nature-munchhausen.org
SUMMARY:Les milieux rhénans\, carrefour de migration
DESCRIPTION:Le Rhin est l’un des couloirs de migration le plus important en Europe pour de nombreux oiseaux. Ceux qui s’y arrêtent pendant l’hiver vivent bien plus au nord le reste de l’année. A nous de sortir nos jumelles pour observer leurs belles couleurs et tenter de les identifier. Venez découvrir ces oiseaux migrateurs qui font halte le long du fleuve. \nA prévoir : chaussures imperméables voire bottes\, une paire de jumelles
URL:https://www.nature-munchhausen.org/event/les-milieux-rhenans-carrefour-de-migration/
LOCATION:Lauterbourg\, 67630\, France
ATTACH;FMTTYPE=image/jpeg:https://www.nature-munchhausen.org/wp-content/uploads/2026/01/E7D14798-scaled.jpg
ORGANIZER;CN="CINE Munchhausen":MAILTO:agendacine@gmail.com
END:VEVENT
BEGIN:VEVENT
DTSTART;TZID=Europe/Paris:20260131T090000
DTEND;TZID=Europe/Paris:20260131T183000
DTSTAMP:20260419T232700
CREATED:20240120T150733Z
LAST-MODIFIED:20251209T161015Z
UID:2895-1769850000-1769884200@www.nature-munchhausen.org
SUMMARY:Apprentis vanniers
DESCRIPTION:Activité jadis courante le long du Rhin\, la vannerie est aujourd’hui tombée en désuétude. Ce stage vous initiera\, à travers la fabrication d’un panier\, aux bases indispensables pour qui souhaite renouer avec cette pratique ancienne. \nA prévoir : couteau pointu et sécateur.\nRDV à 9h00 au Centre d’Initiation à la Nature et à l’Environnement de Munchhausen\nInscription préalable obligatoire au plus tard le vendredi 23 janvier jusqu’à 12h00\nIntervenant : Raymond OESTERLE\, artisan vannier\nParticipation : 45 € personne (matière première fournie)
URL:https://www.nature-munchhausen.org/event/atelier-vannerie/
ATTACH;FMTTYPE=image/jpeg:https://www.nature-munchhausen.org/wp-content/uploads/2021/11/Vannerie-29-fevrier-2020-37.jpg
END:VEVENT
END:VCALENDAR