BEGIN:VCALENDAR
VERSION:2.0
PRODID:-//Maison de la Nature du Delta de la Sauer et d’Alsace du nord - ECPv6.15.18//NONSGML v1.0//EN
CALSCALE:GREGORIAN
METHOD:PUBLISH
X-ORIGINAL-URL:https://www.nature-munchhausen.org
X-WR-CALDESC:Évènements pour Maison de la Nature du Delta de la Sauer et d’Alsace du nord
REFRESH-INTERVAL;VALUE=DURATION:PT1H
X-Robots-Tag:noindex
X-PUBLISHED-TTL:PT1H
BEGIN:VTIMEZONE
TZID:Europe/Paris
BEGIN:DAYLIGHT
TZOFFSETFROM:+0100
TZOFFSETTO:+0200
TZNAME:CEST
DTSTART:20240331T010000
END:DAYLIGHT
BEGIN:STANDARD
TZOFFSETFROM:+0200
TZOFFSETTO:+0100
TZNAME:CET
DTSTART:20241027T010000
END:STANDARD
BEGIN:DAYLIGHT
TZOFFSETFROM:+0100
TZOFFSETTO:+0200
TZNAME:CEST
DTSTART:20250330T010000
END:DAYLIGHT
BEGIN:STANDARD
TZOFFSETFROM:+0200
TZOFFSETTO:+0100
TZNAME:CET
DTSTART:20251026T010000
END:STANDARD
BEGIN:DAYLIGHT
TZOFFSETFROM:+0100
TZOFFSETTO:+0200
TZNAME:CEST
DTSTART:20260329T010000
END:DAYLIGHT
BEGIN:STANDARD
TZOFFSETFROM:+0200
TZOFFSETTO:+0100
TZNAME:CET
DTSTART:20261025T010000
END:STANDARD
END:VTIMEZONE
BEGIN:VEVENT
DTSTART;TZID=Europe/Paris:20250706T090000
DTEND;TZID=Europe/Paris:20250706T160000
DTSTAMP:20260420T080934
CREATED:20250310T150322Z
LAST-MODIFIED:20250310T150322Z
UID:3351-1751792400-1751817600@www.nature-munchhausen.org
SUMMARY:Créations de cuillères et spatules en bois
DESCRIPTION:Une fois n’est pas coutume\, c’est reparti cette année.\nVenez-vous initiez au travail de bois en utilisant un banc à planer\, des planes\, couteaux croches etc. pour fabriquer une cuillère en bois ou une spatule. \n  \nDimanche 6 juillet\, journée \nMunchhausen. Heure et lieu de RDV communiqués à l’inscription (obligatoire au plus tard le vendredi 4 juillet jusqu’à 17h00) \n  \nIntervenant : Adrien BRANDSTETTER\, animateur nature \nParticipation : 40€
URL:https://www.nature-munchhausen.org/event/creations-de-cuilleres-et-spatules-en-bois-2/
LOCATION:Munchhausen\, Munchhausen
ATTACH;FMTTYPE=image/png:https://www.nature-munchhausen.org/wp-content/uploads/2023/07/creation-cuilleres.png
END:VEVENT
BEGIN:VEVENT
DTSTART;TZID=Europe/Paris:20250711T090000
DTEND;TZID=Europe/Paris:20250711T120000
DTSTAMP:20260420T080934
CREATED:20250107T104305Z
LAST-MODIFIED:20250702T130352Z
UID:3212-1752224400-1752235200@www.nature-munchhausen.org
SUMMARY:La nature par les petits chemins...
DESCRIPTION:On se balade sur des chemins sans faire attention à tous les trésors que la nature nous offre à chaque pas : coulées d’animaux sauvages\, empreintes dans les flaques\, fruits du sureau\, de l’aubépine\, du fusain… Partez à la découverte de la faune et de la flore sur les hauteurs de Wissembourg \nSortie organisée en partenariat avec la communauté de communes du Pays de Wissembourg \nVendredi 11 juillet\, matin \nCol du pigeonnier – Wissembourg. Heure et lieu de RDV communiqués à l’inscription (obligatoire au plus tard le mercredi 9 juillet jusqu’à 17h00) \nIntervenante : Magali SAVIO\, animatrice nature \nParticipation : gratuit \n  \nCrédit photo : Valérie Meyer
URL:https://www.nature-munchhausen.org/event/la-nature-par-les-petits-chemins-2/
ATTACH;FMTTYPE=image/png:https://www.nature-munchhausen.org/wp-content/uploads/2025/01/Valerie-Meyer-25.png
END:VEVENT
BEGIN:VEVENT
DTSTART;TZID=Europe/Paris:20250717T090000
DTEND;TZID=Europe/Paris:20250717T120000
DTSTAMP:20260420T080934
CREATED:20250107T104853Z
LAST-MODIFIED:20250107T104853Z
UID:3215-1752742800-1752753600@www.nature-munchhausen.org
SUMMARY:Le delta de la Sauer
DESCRIPTION:Au cours d’une balade\, venez découvrir la réserve naturelle du Delta de la Sauer. L’animatrice retracera l’historique des lieux et grâce à des activités ludiques\, elle fera découvrir la faune et la flore de ce lieu préservé aux participants. \nSortie organisée en partenariat avec la Communauté de communes de la Plaine du Rhin \n  \nJeudi 17 juillet\, matin \nMunchhausen. Heure et lieu de RDV communiqués à l’inscription (obligatoire au plus tard le mercredi 16 juillet jusqu’à 17h00) \nIntervenante : Magali SAVIO\, animatrice nature \nParticipation : gratuite
URL:https://www.nature-munchhausen.org/event/le-delta-de-la-sauer-2/
ATTACH;FMTTYPE=image/png:https://www.nature-munchhausen.org/wp-content/uploads/2025/01/7-4-23-5.png
END:VEVENT
END:VCALENDAR