BEGIN:VCALENDAR
VERSION:2.0
PRODID:-//Maison de la Nature du Delta de la Sauer et d’Alsace du nord - ECPv6.15.18//NONSGML v1.0//EN
CALSCALE:GREGORIAN
METHOD:PUBLISH
X-ORIGINAL-URL:https://www.nature-munchhausen.org
X-WR-CALDESC:Évènements pour Maison de la Nature du Delta de la Sauer et d’Alsace du nord
REFRESH-INTERVAL;VALUE=DURATION:PT1H
X-Robots-Tag:noindex
X-PUBLISHED-TTL:PT1H
BEGIN:VTIMEZONE
TZID:Europe/Paris
BEGIN:DAYLIGHT
TZOFFSETFROM:+0100
TZOFFSETTO:+0200
TZNAME:CEST
DTSTART:20240331T010000
END:DAYLIGHT
BEGIN:STANDARD
TZOFFSETFROM:+0200
TZOFFSETTO:+0100
TZNAME:CET
DTSTART:20241027T010000
END:STANDARD
BEGIN:DAYLIGHT
TZOFFSETFROM:+0100
TZOFFSETTO:+0200
TZNAME:CEST
DTSTART:20250330T010000
END:DAYLIGHT
BEGIN:STANDARD
TZOFFSETFROM:+0200
TZOFFSETTO:+0100
TZNAME:CET
DTSTART:20251026T010000
END:STANDARD
BEGIN:DAYLIGHT
TZOFFSETFROM:+0100
TZOFFSETTO:+0200
TZNAME:CEST
DTSTART:20260329T010000
END:DAYLIGHT
BEGIN:STANDARD
TZOFFSETFROM:+0200
TZOFFSETTO:+0100
TZNAME:CET
DTSTART:20261025T010000
END:STANDARD
END:VTIMEZONE
BEGIN:VEVENT
DTSTART;TZID=Europe/Paris:20250601T090000
DTEND;TZID=Europe/Paris:20250601T120000
DTSTAMP:20260420T093705
CREATED:20250520T081009Z
LAST-MODIFIED:20250520T081009Z
UID:3377-1748768400-1748779200@www.nature-munchhausen.org
SUMMARY:Nos voisins les insectes
DESCRIPTION:On croit parfois que pour observer des insectes incroyables\, il faut s’enfoncer dans une forêt primaire\, parcourir des vallées millénaires ou se hisser à la cime des arbres !\nEh bien\, partons ensemble\, à côté de chez nous\, pour voir que non loin de là\, de petites bêtes passionnantes sont nos voisines ! Leurs comportements étonnants\, les relations qu’elles tissent avec les plantes et leur environnement s’offrent à celles et ceux qui prennent le temps de les observer. \nA prévoir : tenue vestimentaire adaptée aux conditions météorologiques\nWissembourg. Heure et lieu de RDV communiqués à l’inscription (obligatoire au plus tard le vendredi 30 mai jusqu’à 12h00)\nIntervenant : Mathieu SANDRONE\, entomologiste \nParticipation : sortie non payante
URL:https://www.nature-munchhausen.org/event/nos-voisins-les-insectes/
ATTACH;FMTTYPE=image/jpeg:https://www.nature-munchhausen.org/wp-content/uploads/2025/01/Boudons-8.jpg
END:VEVENT
BEGIN:VEVENT
DTSTART;TZID=Europe/Paris:20250614T093000
DTEND;TZID=Europe/Paris:20250614T120000
DTSTAMP:20260420T093705
CREATED:20250604T090812Z
LAST-MODIFIED:20250604T090812Z
UID:3381-1749893400-1749902400@www.nature-munchhausen.org
SUMMARY:Plantes rebelles des villes et villages
DESCRIPTION:Certains s’évertuent à les arracher\, d’autres prennent plaisir à les admirer. Que ça nous plaise ou non\, elles sont là\, et elles nous rappellent que la nature a bien plus d’un tour dans son sac pour résister aux assauts du béton et du macadam. Qui sont les sauvages qui poussent dans nos rues et aux abords des chemins ?\nSortie organisée en partenariat avec la Communauté de Commune du Pays de Wissembourg.\nLe 14 juin\, matin\nSeebach. Heure et lieu de RDV communiqués à l’inscription (obligatoire au plus tard le vendredi 13 juin jusqu’à 17h00)\nIntervenante : Lucie TARLAO\, animatrice nature\nParticipation : sortie non payante
URL:https://www.nature-munchhausen.org/event/plantes-rebelles-des-villes-et-villages/
LOCATION:Seebach\, Seebach
ATTACH;FMTTYPE=image/jpeg:https://www.nature-munchhausen.org/wp-content/uploads/2023/02/pscm.jpg
END:VEVENT
BEGIN:VEVENT
DTSTART;TZID=Europe/Paris:20250615T093000
DTEND;TZID=Europe/Paris:20250615T123000
DTSTAMP:20260420T093705
CREATED:20250129T145350Z
LAST-MODIFIED:20250129T145350Z
UID:3247-1749979800-1749990600@www.nature-munchhausen.org
SUMMARY:Les trames verte et bleue\, des autoroutes naturelles à préserver
DESCRIPTION:Les haies\, vergers et cours d’eau sont autant d’éléments du paysage que les animaux sauvages fréquentent pour leur déplacement. Mais ils sont aussi des réservoirs de biodiversité\, des lieux de refuges ou encore des garde-mangers. Venez découvrir leur richesse et leur intérêt pour la flore et la faune\, Humain y compris\, au cours d’une balade. \nSortie organisée en partenariat avec la communauté de communes Sauer – Pechelbronn \nKutzenhausen. Heure et lieu de RDV communiqués à l’inscription (obligatoire au plus tard le vendredi 13 juin jusqu’à 16h) \n  \nIntervenante : Marion LY\, animatrice nature \nParticipation : sortie non payante
URL:https://www.nature-munchhausen.org/event/les-trames-verte-et-bleue-des-autoroutes-naturelles-a-preserver/
LOCATION:Kutzenhausen\, France
ATTACH;FMTTYPE=image/jpeg:https://www.nature-munchhausen.org/wp-content/uploads/2025/01/IMG_2787-1.jpg
END:VEVENT
END:VCALENDAR