BEGIN:VCALENDAR
VERSION:2.0
PRODID:-//Maison de la Nature du Delta de la Sauer et d’Alsace du nord - ECPv6.15.18//NONSGML v1.0//EN
CALSCALE:GREGORIAN
METHOD:PUBLISH
X-ORIGINAL-URL:https://www.nature-munchhausen.org
X-WR-CALDESC:Évènements pour Maison de la Nature du Delta de la Sauer et d’Alsace du nord
REFRESH-INTERVAL;VALUE=DURATION:PT1H
X-Robots-Tag:noindex
X-PUBLISHED-TTL:PT1H
BEGIN:VTIMEZONE
TZID:Europe/Paris
BEGIN:DAYLIGHT
TZOFFSETFROM:+0100
TZOFFSETTO:+0200
TZNAME:CEST
DTSTART:20240331T010000
END:DAYLIGHT
BEGIN:STANDARD
TZOFFSETFROM:+0200
TZOFFSETTO:+0100
TZNAME:CET
DTSTART:20241027T010000
END:STANDARD
BEGIN:DAYLIGHT
TZOFFSETFROM:+0100
TZOFFSETTO:+0200
TZNAME:CEST
DTSTART:20250330T010000
END:DAYLIGHT
BEGIN:STANDARD
TZOFFSETFROM:+0200
TZOFFSETTO:+0100
TZNAME:CET
DTSTART:20251026T010000
END:STANDARD
BEGIN:DAYLIGHT
TZOFFSETFROM:+0100
TZOFFSETTO:+0200
TZNAME:CEST
DTSTART:20260329T010000
END:DAYLIGHT
BEGIN:STANDARD
TZOFFSETFROM:+0200
TZOFFSETTO:+0100
TZNAME:CET
DTSTART:20261025T010000
END:STANDARD
END:VTIMEZONE
BEGIN:VEVENT
DTSTART;TZID=Europe/Paris:20250202T140000
DTEND;TZID=Europe/Paris:20250202T170000
DTSTAMP:20260420T144856
CREATED:20240114T202339Z
LAST-MODIFIED:20250106T114905Z
UID:2848-1738504800-1738515600@www.nature-munchhausen.org
SUMMARY:Oiseaux d'eau hivernants
DESCRIPTION:Au cours de l’après-midi\, venez découvrir les oiseaux d’eau qui passent l’hiver sur les plans d’eau alsaciens. Sarcelles d’hiver\, garrots à oeil d’or\, cygnes chanteurs… profitent des gravières et du Rhin tout au long de la période hivernale. Munis de jumelles et de longues-vues\, venez les observer et apprenez à les reconnaître. \nMunchhausen \nHeure et lieu de RDV communiqués à l’inscription (obligatoire au plus tard le vendredi 31 janvier jusqu’à 17h00) \nIntervenants : Magali SAVIO\, animatrice nature et Sebastian OLSCHEWSKI NABU Karlsruhe \nParticipation : sortie non payante (partenariat avec la communauté de communes de la Plaine du Rhin) \nAnimation en français et en allemand
URL:https://www.nature-munchhausen.org/event/oiseaux-deau-hivernants-2/
ATTACH;FMTTYPE=image/jpeg:https://www.nature-munchhausen.org/wp-content/uploads/2021/11/Canard-Colvet.jpg
END:VEVENT
BEGIN:VEVENT
DTSTART;TZID=Europe/Paris:20250208T000000
DTEND;TZID=Europe/Paris:20250208T000000
DTSTAMP:20260420T144856
CREATED:20230125T153521Z
LAST-MODIFIED:20250129T140342Z
UID:2544-1738972800-1738972800@www.nature-munchhausen.org
SUMMARY:Saponification à froid
DESCRIPTION:Réaliser des savons chez soi\, c’est possible et ça ne nécessite pas beaucoup de matériel ! Lors de cet\natelier\, vous pourrez acquérir les bases de la saponification à froid et repartirez avec des savons doux\npour la peau et pour la planète.\nÀ prévoir : se munir de gants de vaisselle\, de lunettes\, et d’un masque de protection. Enfants non admis.\nPlaces limitées.
URL:https://www.nature-munchhausen.org/event/saponification-a-froid-4/
LOCATION:Munchhausen\, Heure et lieu de RDV communiqués à l’inscription\, Munchhausen\, France
ATTACH;FMTTYPE=image/jpeg:https://www.nature-munchhausen.org/wp-content/uploads/2023/01/saponification.jpg
END:VEVENT
BEGIN:VEVENT
DTSTART;TZID=Europe/Paris:20250209T090000
DTEND;TZID=Europe/Paris:20250209T113000
DTSTAMP:20260420T144856
CREATED:20250106T131714Z
LAST-MODIFIED:20250106T132201Z
UID:3171-1739091600-1739100600@www.nature-munchhausen.org
SUMMARY:Suivons la piste des animaux
DESCRIPTION:Prêts à devenir des détectives de la nature ? Rejoignez-nous pour une sortie à la découverte des traces et indices laissés par les animaux forestiers. Apprenez à repérer les empreintes\, les nids et autres signes subtils qui témoignent de leur présence. \nSortie organisée en partenariat avec la ville de Brumath \nDimanche 09 février\, matin \nBrumath. Heure et lieu de RDV communiqués à l’inscription (obligatoire au plus tard le vendredi 7 février jusqu’à 17h00 et à effectuer auprès de la ville de Brumath)  \nIntervenante : Audrey Legland\, animatrice nature \nParticipation : sortie non payante
URL:https://www.nature-munchhausen.org/event/suivons-la-piste-des-animaux/
LOCATION:Brumath\, Brumath
ATTACH;FMTTYPE=image/jpeg:https://www.nature-munchhausen.org/wp-content/uploads/2025/01/feuilles-2.jpg
END:VEVENT
END:VCALENDAR