BEGIN:VCALENDAR
VERSION:2.0
PRODID:-//Maison de la Nature du Delta de la Sauer et d’Alsace du nord - ECPv6.15.18//NONSGML v1.0//EN
CALSCALE:GREGORIAN
METHOD:PUBLISH
X-WR-CALNAME:Maison de la Nature du Delta de la Sauer et d’Alsace du nord
X-ORIGINAL-URL:https://www.nature-munchhausen.org
X-WR-CALDESC:Évènements pour Maison de la Nature du Delta de la Sauer et d’Alsace du nord
REFRESH-INTERVAL;VALUE=DURATION:PT1H
X-Robots-Tag:noindex
X-PUBLISHED-TTL:PT1H
BEGIN:VTIMEZONE
TZID:Europe/Paris
BEGIN:DAYLIGHT
TZOFFSETFROM:+0100
TZOFFSETTO:+0200
TZNAME:CEST
DTSTART:20230326T010000
END:DAYLIGHT
BEGIN:STANDARD
TZOFFSETFROM:+0200
TZOFFSETTO:+0100
TZNAME:CET
DTSTART:20231029T010000
END:STANDARD
BEGIN:DAYLIGHT
TZOFFSETFROM:+0100
TZOFFSETTO:+0200
TZNAME:CEST
DTSTART:20240331T010000
END:DAYLIGHT
BEGIN:STANDARD
TZOFFSETFROM:+0200
TZOFFSETTO:+0100
TZNAME:CET
DTSTART:20241027T010000
END:STANDARD
BEGIN:DAYLIGHT
TZOFFSETFROM:+0100
TZOFFSETTO:+0200
TZNAME:CEST
DTSTART:20250330T010000
END:DAYLIGHT
BEGIN:STANDARD
TZOFFSETFROM:+0200
TZOFFSETTO:+0100
TZNAME:CET
DTSTART:20251026T010000
END:STANDARD
END:VTIMEZONE
BEGIN:VEVENT
DTSTART;TZID=Europe/Paris:20241207T090000
DTEND;TZID=Europe/Paris:20241207T160000
DTSTAMP:20260420T171800
CREATED:20241030T105154Z
LAST-MODIFIED:20241030T105154Z
UID:3137-1733562000-1733587200@www.nature-munchhausen.org
SUMMARY:Créations de cuillères et spatules en bois
DESCRIPTION:Lors de cet atelier\, vous apprendrez à utiliser différents outils tels que des planes et des couteaux croches pour façonner des ustensiles en bois. Vous apprendrez à différencier quelques essences d’arbres grâce à leur aspect. \n  \nInscription préalable obligatoire au plus tard le vendredi 6 décembre jusqu’à 17h00 \nPublic · Tout le monde sur ou en dehors de Facebook à partir de 11 ans \nDurée : 7h \nParticipation : 30 € personne
URL:https://www.nature-munchhausen.org/event/creations-de-cuilleres-et-spatules-en-bois/
LOCATION:Munchhausen\, Munchhausen
ATTACH;FMTTYPE=image/png:https://www.nature-munchhausen.org/wp-content/uploads/2022/03/11-27-22-Banc-planer.png
END:VEVENT
BEGIN:VEVENT
DTSTART;TZID=Europe/Paris:20241208T090000
DTEND;TZID=Europe/Paris:20241208T120000
DTSTAMP:20260420T171800
CREATED:20240827T083202Z
LAST-MODIFIED:20240827T083202Z
UID:3086-1733648400-1733659200@www.nature-munchhausen.org
SUMMARY:Les signatures animales
DESCRIPTION:L’hiver approche. La nature semble vide et pourtant de nombreux signes nous informent que les animaux ne sont pas tous entrés en hibernation ou partis en migration. Découvrir les indices de présence en observant\, écoutant\, en relevant les traces laissées par la faune sauvage et en essayant d’identifier leurs auteurs\, tels sont les objectifs de cette sortie. \nHeure et lieu de RDV communiqués à l’inscription (obligatoire au plus tard le vendredi 6 décembre jusqu’à 17h00) \nIntervenant : Pascal GEROLD\, animateur nature \nParticipation : 5 € personne \n 
URL:https://www.nature-munchhausen.org/event/les-signatures-animales-2/
LOCATION:Wingen\, Wingen\, 67160\, France
END:VEVENT
END:VCALENDAR