BEGIN:VCALENDAR
VERSION:2.0
PRODID:-//Maison de la Nature du Delta de la Sauer et d’Alsace du nord - ECPv6.15.18//NONSGML v1.0//EN
CALSCALE:GREGORIAN
METHOD:PUBLISH
X-WR-CALNAME:Maison de la Nature du Delta de la Sauer et d’Alsace du nord
X-ORIGINAL-URL:https://www.nature-munchhausen.org
X-WR-CALDESC:Évènements pour Maison de la Nature du Delta de la Sauer et d’Alsace du nord
REFRESH-INTERVAL;VALUE=DURATION:PT1H
X-Robots-Tag:noindex
X-PUBLISHED-TTL:PT1H
BEGIN:VTIMEZONE
TZID:Europe/Paris
BEGIN:DAYLIGHT
TZOFFSETFROM:+0100
TZOFFSETTO:+0200
TZNAME:CEST
DTSTART:20250330T010000
END:DAYLIGHT
BEGIN:STANDARD
TZOFFSETFROM:+0200
TZOFFSETTO:+0100
TZNAME:CET
DTSTART:20251026T010000
END:STANDARD
BEGIN:DAYLIGHT
TZOFFSETFROM:+0100
TZOFFSETTO:+0200
TZNAME:CEST
DTSTART:20260329T010000
END:DAYLIGHT
BEGIN:STANDARD
TZOFFSETFROM:+0200
TZOFFSETTO:+0100
TZNAME:CET
DTSTART:20261025T010000
END:STANDARD
BEGIN:DAYLIGHT
TZOFFSETFROM:+0100
TZOFFSETTO:+0200
TZNAME:CEST
DTSTART:20270328T010000
END:DAYLIGHT
BEGIN:STANDARD
TZOFFSETFROM:+0200
TZOFFSETTO:+0100
TZNAME:CET
DTSTART:20271031T010000
END:STANDARD
END:VTIMEZONE
BEGIN:VEVENT
DTSTART;TZID=Europe/Paris:20260426T093000
DTEND;TZID=Europe/Paris:20260426T150000
DTSTAMP:20260419T202440
CREATED:20210316T194023Z
LAST-MODIFIED:20260317T084325Z
UID:1820-1777195800-1777215600@www.nature-munchhausen.org
SUMMARY:Les milieux rhénans en pédalant !
DESCRIPTION:La bande rhénane est constituée d’une mosaïque de milieux naturels\, tous différents et chargés en biodiversité. Le Rhin a façonné ses paysages exceptionnels et fascinants. Venez les découvrir et les traverser à vélo lors d’une balade ponctuée d’activités ludiques. \nA prévoir : un vélo\, une pièce d’identité (pour aller en Allemagne)\, un pique-nique. A partir de 8 ans. \nSortie organisée en partenariat avec la communauté de communes de la plaine du Rhin \n  \nMunchhausen. Heure et lieu de RDV communiqués à l’inscription (obligatoire au plus tard le vendredi 24 juillet jusqu’à 16h) \n  \nIntervenante : Marion LY\, animatrice nature \nParticipation : sortie non payante
URL:https://www.nature-munchhausen.org/event/tous-a-veleau/
LOCATION:Munchhausen\, Munchhausen
ATTACH;FMTTYPE=image/jpeg:https://www.nature-munchhausen.org/wp-content/uploads/2021/03/9-7-21-Velo.jpg
END:VEVENT
BEGIN:VEVENT
DTSTART;TZID=Europe/Paris:20260522T190000
DTEND;TZID=Europe/Paris:20260522T220000
DTSTAMP:20260419T202440
CREATED:20190204T104819Z
LAST-MODIFIED:20251219T155159Z
UID:928-1779476400-1779487200@www.nature-munchhausen.org
SUMMARY:La forêt alluviale au clair de lune
DESCRIPTION:Le parcours botanique de Stattmatten situé en forêt alluviale est un écrin de biodiversité. Ici la flore est luxuriante et elle offre aux animaux de la nourriture en abondance et des possibilités de gîtes en grand nombre. Pourtant la plupart des promeneurs ne s’aperçoivent pas de la richesse de ce lieu. \nLors de la sortie\, l’animatrice aura à cœur de vous faire découvrir les trésors floristiques et faunistiques du milieu. Et petite cerise sur le gâteau : ceci en fin de journée pour découvrir les hôtes nocturnes des lieux. \nSortie organisée en partenariat avec la Région Grand Est \nVendredi 22 mai\, soirée \nStattmatten Heure et lieu de RDV communiqués à l’inscription (obligatoire au plus tard le vendredi 22 mai jusqu’à 12h00) \nEnfant de + de 10 ans \nIntervenante : Magali SAVIO\, animatrice nature \nParticipation : Sortie non payante \nSortie adaptée aux personnes en situation de handicap
URL:https://www.nature-munchhausen.org/event/17-mai-la-foret-alluviale-au-clair-de-lune/
LOCATION:Stattmatten\, 67770\, France
ATTACH;FMTTYPE=image/png:https://www.nature-munchhausen.org/wp-content/uploads/2023/06/IMG-20240629-WA0010.png
END:VEVENT
BEGIN:VEVENT
DTSTART;TZID=Europe/Paris:20260522T203000
DTEND;TZID=Europe/Paris:20260522T223000
DTSTAMP:20260419T202440
CREATED:20220304T094102Z
LAST-MODIFIED:20260113T132327Z
UID:2178-1779481800-1779489000@www.nature-munchhausen.org
SUMMARY:à la découverte des chauve-souris
DESCRIPTION:Les chauve-souris sont les seuls mammifères volants présents en France. Elles sont mystérieuses et fascinantes à la fois. Venez découvrir à la tombée de la nuit leur mode de vie et tentons ensemble de les observer et de les entendre grâce à un détecteur. \nA prévoir : une petite lampe (si besoin) \nSortie organisée en partenariat avec la communauté de communes de la Basse Zorn \nKurtzenhouse. Heure et lieu de RDV communiqués à l’inscription (obligatoire au plus tard le jour-même jusqu’à 12h) \nIntervenante : Marion LY\, animatrice nature \nParticipation : sortie non payante
URL:https://www.nature-munchhausen.org/event/lunivers-des-chauve-souris/
LOCATION:Kurtzenhouse\, Kurtzenhouse
ATTACH;FMTTYPE=image/jpeg:https://www.nature-munchhausen.org/wp-content/uploads/2022/03/chauve-souris.jpg
END:VEVENT
BEGIN:VEVENT
DTSTART;TZID=Europe/Paris:20260523T140000
DTEND;TZID=Europe/Paris:20260523T170000
DTSTAMP:20260419T202440
CREATED:20260210T090433Z
LAST-MODIFIED:20260210T091243Z
UID:3627-1779544800-1779555600@www.nature-munchhausen.org
SUMMARY:Initiatives pour la biodiversité en ville
DESCRIPTION:Découvrez l’Oasis de Biodiversité\, transformation spectaculaire d’une zone urbaine stérile en un refuge verdoyant et apaisant. Nos guides vous emmèneront à travers des sentiers enchanteurs où vous pourrez admirer une profusion de vivaces mellifères\, des arbres fruitiers\, une haie champêtre… et entendre le bourdonnement joyeux des abeilles. Que vous soyez un passionné de nature ou un citadin en quête de calme\, l’Oasis de Biodiversité offre une expérience immersive au cœur de la ville. \nSortie organisée en partenariat avec l’Oasis de Biodiversité à Bischwiller \nA prévoir : Chaussures adaptées selon la météo \nBischwiller \nHeure et lieu du RDV communiqués à l’inscription (obligatoire au plus tard le vendredi 22 mai jusqu’à 18 heures) au 03 88 53 88 77 \nIntervenants : Guy et Véronique Kratz\, initiateurs de l’Oasis de Biodiversité à Bischwiller \nParticipation : Sortie non payante
URL:https://www.nature-munchhausen.org/event/initiatives-pour-la-biodiversite-en-ville/
ATTACH;FMTTYPE=image/jpeg:https://www.nature-munchhausen.org/wp-content/uploads/2026/02/579923000_4048611115404682_8774769017347866284_n-1.jpg
END:VEVENT
BEGIN:VEVENT
DTSTART;TZID=Europe/Paris:20260606T090000
DTEND;TZID=Europe/Paris:20260606T120000
DTSTAMP:20260419T202440
CREATED:20260210T092100Z
LAST-MODIFIED:20260220T095119Z
UID:3633-1780736400-1780747200@www.nature-munchhausen.org
SUMMARY:Initiation à un inventaire naturaliste
DESCRIPTION:Le sanctuaire de la forêt du Boesch est un petit bout de nature retourné à l’état\nsauvage. Délaissé par les humains depuis de nombreuses années\, son intérêt\nnaturaliste semble important. Afin d’en évaluer son réel potentiel biologique\, la Maison de la Nature du Delta de la Sauer et d’Alsace du Nord\, en association avec le Parc Naturel Régional des Vosges du Nord\, prévoit d’y réaliser un inventaire de biodiversité. Ainsi\, divers spécialistes de la faune et de la flore seront conviés\, durant cette journée\, à effectuer des recensements d’espèces. Ecoute des chants d’oiseaux\, capture et détermination des invertébrés de la litière et du bois mort\, reconnaissance des plantes… Autant d’études auxquelles vous pourrez prendre part si vous vous sentez l’âme d’un apprenti naturaliste ! Inventaire ouvert aux curieux de nature\, initiés ou non. \nInventaire organisé en partenariat avec le Parc Naturel Régional des Vosges du Nord et la commune de Wingen \nWingen \nHeure et lieu de RDV communiqués à l’inscription (obligatoire au plus tard le vendredi 5 juin jusqu’à 12h00) \nIntervenants : naturalistes aux compétences diverses (ornithologie\, entomologie\, botanique…) \nParticipation : Animation non payante et ouverte à toutes/tous  \nAvec possibilité de prolongement sur l’après-midi
URL:https://www.nature-munchhausen.org/event/initiation-a-un-inventaire-naturaliste/
ATTACH;FMTTYPE=image/jpeg:https://www.nature-munchhausen.org/wp-content/uploads/2026/02/Inventaire-naturaliste-2.jpg
END:VEVENT
BEGIN:VEVENT
DTSTART;TZID=Europe/Paris:20260612T190000
DTEND;TZID=Europe/Paris:20260612T210000
DTSTAMP:20260419T202440
CREATED:20260210T101924Z
LAST-MODIFIED:20260220T095044Z
UID:3635-1781290800-1781298000@www.nature-munchhausen.org
SUMMARY:De balades en ballades
DESCRIPTION:Laissez-vous bercer par une promenade forestière agrémentée de chansons qui sentent bon l’humus\, la fraîcheur du sous-bois et la douceur de l’écorce. Moment animé par la Fine Bouche. \nBalade musicale organisée en partenariat avec le Parc Naturel Régional des Vosges du Nord et la commune de Wingen \nWingen \nHeure et lieu de RDV communiqués à l’inscription (obligatoire au plus tard le jour même jusqu’à 12h00) \nIntervenants : Ensemble de la Fine Bouche \nParticipation : Balade chantée non payante
URL:https://www.nature-munchhausen.org/event/de-balades-en-ballades/
ATTACH;FMTTYPE=image/jpeg:https://www.nature-munchhausen.org/wp-content/uploads/2026/02/Inventaire-naturaliste.jpg
END:VEVENT
BEGIN:VEVENT
DTSTART;TZID=Europe/Paris:20260613T090000
DTEND;TZID=Europe/Paris:20260613T170000
DTSTAMP:20260419T202440
CREATED:20260210T102300Z
LAST-MODIFIED:20260210T102300Z
UID:3638-1781341200-1781370000@www.nature-munchhausen.org
SUMMARY:L’art au coeur du sauvage
DESCRIPTION:Quand la nature «sauvage» inspire les artistes… Ce stage d’une journée vous initiera au dessin à l’aquarelle et vous immergera dans un site naturel remarquable classé «sanctuaire de nature». Bois mort\, champignons\, lianes et autres ambiances sauvages vous serviront de sujet dans un décor naturel préservé. \nSortie organisée en partenariat avec le Parc Naturel Régional des Vosges du Nord et la commune de Wingen \nA prévoir : petit siège pliant (de pêcheur ou de camping) · Le matériel sera fourni par l’intervenante. \nWingen \nHeure et lieu de RDV communiqués à l’inscription (obligatoire au plus tard le mercredi 10 juin jusqu’à 17h00) \nIntervenante : Jordane Desjardins\, graphiste\, artiste peintre et fresquiste \nParticipation : Stage non payant et limité à 8 participants
URL:https://www.nature-munchhausen.org/event/lart-au-coeur-du-sauvage/
ATTACH;FMTTYPE=image/jpeg:https://www.nature-munchhausen.org/wp-content/uploads/2022/03/08-26-2022_encre-de-plantes.jpg
END:VEVENT
BEGIN:VEVENT
DTSTART;TZID=Europe/Paris:20260621T093000
DTEND;TZID=Europe/Paris:20260621T120000
DTSTAMP:20260419T202440
CREATED:20220304T093753Z
LAST-MODIFIED:20260113T140733Z
UID:2175-1782034200-1782043200@www.nature-munchhausen.org
SUMMARY:Les pouvoirs bienfaisants des arbres
DESCRIPTION:Les arbres qui constituent nos haies ou nos forêts\, même isolés au fond du jardin\, nous rendent de multiples services : fraîcheur\, ombre\, humidité\, bien-être… Et pas que pour les humains ! Ils sont aussi des refuges pour la biodiversité. Venez identifier quelques essences et en apprendre davantage sur leur fonctionnement ! \nA prévoir : une tenue de terrain\, un crayon et un carnet pour faire son herbier \nDimanche 21 juin 2026\, matin \nHaguenau. Heure et lieu de RDV communiqués à l’inscription (obligatoire au plus tard vendredi 19 juin jusqu’à 16h) \n  \nIntervenante : Marion LY\, animatrice nature \nParticipation : sortie non payante
URL:https://www.nature-munchhausen.org/event/les-arbres-de-nos-forets/
LOCATION:Haguenau\, Hagueneau
ATTACH;FMTTYPE=image/jpeg:https://www.nature-munchhausen.org/wp-content/uploads/2023/01/arbres.jpg
END:VEVENT
BEGIN:VEVENT
DTSTART;TZID=Europe/Paris:20260715T143000
DTEND;TZID=Europe/Paris:20260715T170000
DTSTAMP:20260419T202440
CREATED:20200224T185823Z
LAST-MODIFIED:20251219T155333Z
UID:1311-1784125800-1784134800@www.nature-munchhausen.org
SUMMARY:Arbre\, quel est ton nom ?
DESCRIPTION:Au cours de l’après-midi\, vous apprendrez à reconnaître les arbres grâce à leurs feuilles et en utilisant une clé de détermination. Vous aurez la possibilité de récolter les feuilles afin de faire un herbier. \nSortie organisée en partenariat avec la Communauté de communes de la Basse Zorn \nMercredi 15 juillet\, après-midi \nGeudertheim Heure et lieu de RDV communiqués à l’inscription (obligatoire au plus tard le vendredi 17 mai jusqu’à 12h00) \nA prévoir : Un sachet. \nIntervenante : Magali SAVIO\, animatrice nature \nParticipation : Sortie non payante \nSortie adaptée aux personnes en situation de handicap
URL:https://www.nature-munchhausen.org/event/17-mai-arbre-quel-est-ton-nom/
LOCATION:Drachenbronn-Birlenbach\, Drachenbronn-Birlenbach
ATTACH;FMTTYPE=image/jpeg:https://www.nature-munchhausen.org/wp-content/uploads/2023/01/4451aa788cf55abc330b4d9fb2101db1.jpg
END:VEVENT
BEGIN:VEVENT
DTSTART;TZID=Europe/Paris:20260717T180000
DTEND;TZID=Europe/Paris:20260718T100000
DTSTAMP:20260419T202440
CREATED:20230628T163643Z
LAST-MODIFIED:20251219T155438Z
UID:2741-1784311200-1784368800@www.nature-munchhausen.org
SUMMARY:Bivouac dans les Vosges du Nord
DESCRIPTION:Venez vivre une expérience inédite avec votre enfant en forêt : balade crépusculaire à l’écoute des bruits de la forêt\, nuit à l’aire de bivouac et petit déjeuner au lever du soleil. De quoi se faire plein de souvenirs ! \nSortie organisée en partenariat avec la Communauté de communes du Pays de Wissembourg \nVendredi 17 juillet\, soirée \nClimbach Heure et lieu de RDV communiqués à l’inscription (obligatoire au plus tard le mercredi 15 juillet jusqu’à 12h00) \nAdultes uniquement – À prévoir : duvet\, tapis de sol\, assiette\, couverts et gobelets \nIntervenante : Magali SAVIO\, animatrice nature \nParticipation : 15 €
URL:https://www.nature-munchhausen.org/event/bivouac-dans-les-vosges-du-nord-2/
ATTACH;FMTTYPE=image/png:https://www.nature-munchhausen.org/wp-content/uploads/2023/06/IMG-20240629-WA0010.png
END:VEVENT
BEGIN:VEVENT
DTSTART;TZID=Europe/Paris:20260722T143000
DTEND;TZID=Europe/Paris:20260722T173000
DTSTAMP:20260419T202440
CREATED:20220317T152526Z
LAST-MODIFIED:20251219T155625Z
UID:2302-1784730600-1784741400@www.nature-munchhausen.org
SUMMARY:Land art
DESCRIPTION:Et si on profitait de l’été et de sa palette de couleurs pour faire du Land art ? Au cours de l’après-midi\, nous aurons l’occasion de nous adonner à cet art qui utilise les éléments naturels comme matières premières. \nSortie organisée en partenariat avec la Communauté de communes du Pays de Wissembourg \nMercredi 22 juillet\, après-midi \nRott Heure et lieu de RDV communiqués à l’inscription (obligatoire au plus tard le mercredi 15 juillet jusqu’à 12h00) \nIntervenante : Magali SAVIO\, animatrice nature \nParticipation : Sortie non payante \nSortie adaptée aux personnes en situation de handicap
URL:https://www.nature-munchhausen.org/event/land-art-2/
ATTACH;FMTTYPE=image/jpeg:https://www.nature-munchhausen.org/wp-content/uploads/2022/03/10-02-22-Land-art-1.jpg
END:VEVENT
BEGIN:VEVENT
DTSTART;TZID=Europe/Paris:20260906T093000
DTEND;TZID=Europe/Paris:20260906T120000
DTSTAMP:20260419T202440
CREATED:20220304T094833Z
LAST-MODIFIED:20260113T140902Z
UID:2184-1788687000-1788696000@www.nature-munchhausen.org
SUMMARY:Le Grossmatt\, un havre de nature
DESCRIPTION:Le Grossmatt est un Espace Naturel Sensible (ENS) de 85ha acquis par la Collectivité européenne d’Alsace en 2013. Il mêle prairies\, forêts\, roselières et autres zones humides et offre une luxuriante biodiversité. Venez le découvrir lors d’une balade guidée et commentée. \nA prévoir : chaussures imperméables voire bottes\, une paire de jumelles \nSortie organisée en partenariat avec la Collectivité européenne d’Alsace \nDimanche 6 septembre\, matin \nSecteur Leutenheim. Heure et lieu de RDV communiqués à l’inscription (obligatoire au plus tard le vendredi 5 septembre jusqu’à 16h) \nIntervenante : Marion LY\, animatrice nature \nParticipation : sortie non payante \n  \n 
URL:https://www.nature-munchhausen.org/event/lespace-naturel-sensible-du-grossmatt-3/
LOCATION:Leutenheim
ATTACH;FMTTYPE=image/png:https://www.nature-munchhausen.org/wp-content/uploads/2023/07/deambulation-delta.png
END:VEVENT
BEGIN:VEVENT
DTSTART;TZID=Europe/Paris:20261004T093000
DTEND;TZID=Europe/Paris:20261004T120000
DTSTAMP:20260419T202440
CREATED:20260113T141838Z
LAST-MODIFIED:20260113T141838Z
UID:3619-1791106200-1791115200@www.nature-munchhausen.org
SUMMARY:La haie\, quels intérêts ?
DESCRIPTION:Il existe une multitude de haies dans nos paysages. Venez découvrir lors d’une marche leurs rôle pour l’humain\, la faune et la flore ainsi que les nombreux services qu’elles nous apportent ! \nSortie organisée en partenariat avec la Communauté de communes de la Basse Zorn \nDimanche 4 octobre \nWeitbruch Heure et lieu de RDV communiqués à l’inscription (obligatoire au plus tard le vendredi 02 octobre jusqu’à 12h00 \nIntervenante : Marion LY\, animatrice nature \nParticipation : sortie non payante
URL:https://www.nature-munchhausen.org/event/la-haie-quels-interets/
LOCATION:weitbruch
ATTACH;FMTTYPE=image/jpeg:https://www.nature-munchhausen.org/wp-content/uploads/2025/10/S9-CN-1-scaled.jpg
END:VEVENT
BEGIN:VEVENT
DTSTART;TZID=Europe/Paris:20261010T090000
DTEND;TZID=Europe/Paris:20261010T170000
DTSTAMP:20260419T202440
CREATED:20260210T102448Z
LAST-MODIFIED:20260210T102448Z
UID:3640-1791622800-1791651600@www.nature-munchhausen.org
SUMMARY:La photo au cœur du sauvage
DESCRIPTION:Quand la nature «sauvage» inspire les photographes… Ce stage d’une journée vous initiera à la photographie de nature et vous immergera dans le sanctuaire de la forêt du Boesch. Le paysage et la macro seront les thématiques privilégiées car les sujets en lien (plantes\, champignons\, invertébrés\, éléments du bois mort…) ne manqueront pas dans ce décor désordonné où la nature s’exprime dans sa toute puissance. Théorie et pratique s’y entremêleront à l’image de la végétation spontanée qui s’y s’épanouit. \nSortie organisée en partenariat avec le Parc Naturel Régional des Vosges du Nord et la commune de Wingen. \nLe matériel photographique sera à ramener par les participants. \nWingen \nHeure et lieu de RDV communiqués à l’inscription (obligatoire au plus tard le jeudi 8 octobre jusqu’à 17h00) \nIntervenant : Jérôme Fatalot\, réalisateur et photographe \nParticipation : Stage non payant
URL:https://www.nature-munchhausen.org/event/la-photo-au-coeur-du-sauvage/
ATTACH;FMTTYPE=image/jpeg:https://www.nature-munchhausen.org/wp-content/uploads/2023/01/20181025_141753.jpg
END:VEVENT
BEGIN:VEVENT
DTSTART;TZID=Europe/Paris:20261011T140000
DTEND;TZID=Europe/Paris:20261011T170000
DTSTAMP:20260419T202440
CREATED:20251219T155803Z
LAST-MODIFIED:20251219T155803Z
UID:3598-1791727200-1791738000@www.nature-munchhausen.org
SUMMARY:L’automne dans le Delta de la Sauer
DESCRIPTION:Au cours d’une balade\, venez découvrir la réserve naturelle du Delta de la Sauer. L’animatrice retracera l’historique des lieux et grâce à des activités ludiques\, elle fera découvrir la faune et la flore de ce lieu préservé aux participants. \nSortie organisée en partenariat avec la Communauté de communes de la Plaine du Rhin \nDimanche 11 octobre\, après-midi \nMunchhausen Heure et lieu de RDV communiqués à l’inscription (obligatoire au plus tard le vendredi 9 octobre jusqu’à 12h00) \nIntervenante : Magali SAVIO\, animatrice nature \nParticipation : Sortie non payante \nSortie adaptée aux personnes en situation de handicap
URL:https://www.nature-munchhausen.org/event/lautomne-dans-le-delta-de-la-sauer/
ATTACH;FMTTYPE=image/jpeg:https://www.nature-munchhausen.org/wp-content/uploads/2024/01/24-Mai-Delta-2.jpg
END:VEVENT
BEGIN:VEVENT
DTSTART;TZID=Europe/Paris:20261018T140000
DTEND;TZID=Europe/Paris:20261018T170000
DTSTAMP:20260419T202440
CREATED:20250107T110005Z
LAST-MODIFIED:20251219T155851Z
UID:3222-1792332000-1792342800@www.nature-munchhausen.org
SUMMARY:Balade automnale
DESCRIPTION:Venez profiter des belles couleurs de la forêt en automne\, des trésors que celle-ci offre\, de l’air frais qui embaume les odeurs de terre et de bois\, écouter le craquement des feuilles sous les pas.. Offrez-vous un moment pour flâner dans la nature en compagnie de l’animatrice et du garde forestier qui vous feront découvrir les merveilles du milieu forestier. \nSortie organisée en partenariat avec la Communauté de communes de la Basse Zorn \nDimanche 18 octobre\, après-midi \nKurtzenhouse Heure et lieu de RDV communiqués à l’inscription (obligatoire au plus tard le vendredi 16 octobre jusqu’à 12h00) \nIntervenants : Magali SAVIO\, animatrice nature et Jean-Philippe SCHMITT\, garde forestier \nParticipation : Sortie non payante \nSortie adaptée aux personnes en situation de handicap
URL:https://www.nature-munchhausen.org/event/balade-automnale/
ATTACH;FMTTYPE=image/png:https://www.nature-munchhausen.org/wp-content/uploads/2025/01/Foret-BZ-10-24-15.png
END:VEVENT
BEGIN:VEVENT
DTSTART;TZID=Europe/Paris:20261031T190000
DTEND;TZID=Europe/Paris:20261031T220000
DTSTAMP:20260419T202440
CREATED:20240120T145921Z
LAST-MODIFIED:20251219T160015Z
UID:2891-1793473200-1793484000@www.nature-munchhausen.org
SUMMARY:Au clair de lune d’Halloween
DESCRIPTION:Araignées\, chauves-souris\, crapauds\, serpents\, rapaces… Ces créatures emblématiques d’Halloween sont-elles si effrayantes que ça ? Savez-vous qu’en réalité\, ces animaux sont en majorité inoffensifs et surtout essentiels à la biodiversité. Venez les découvrir lors d’une balade en forêt. \nVous pouvez venir déguisés pour déguster une potion préparée par les amies fées et sorcières de l’animatrice ! \nSortie organisée en partenariat avec la Communauté de communes de la Plaine du Rhin \nSamedi 31 octobre\, soirée \nSalmbach \nHeure et lieu de RDV communiqués à l’inscription (obligatoire au plus tard le vendredi 30 octobre jusqu’à 12h00) \nEnfant de + de 10 ans \nIntervenante : Magali SAVIO\, animatrice nature \nParticipation : Sortie non payante \nSortie adaptée aux personnes en situation de handicap
URL:https://www.nature-munchhausen.org/event/au-clair-de-lune-dhalloween/
ATTACH;FMTTYPE=image/jpeg:https://www.nature-munchhausen.org/wp-content/uploads/2022/03/05-06-22-Crepusculaire-Munchhausen.jpg
END:VEVENT
BEGIN:VEVENT
DTSTART;TZID=Europe/Paris:20261128T090000
DTEND;TZID=Europe/Paris:20261128T180000
DTSTAMP:20260419T202440
CREATED:20170720T132713Z
LAST-MODIFIED:20251209T161006Z
UID:227-1795856400-1795888800@www.nature-munchhausen.org
SUMMARY:Apprentis vanniers
DESCRIPTION:Activité jadis courante le long du Rhin\, la vannerie est aujourd’hui tombée en désuétude. Ce stage vous initiera\, à travers la fabrication d’un panier\, aux bases indispensables pour qui souhaite renouer avec cette pratique ancienne. \nA prévoir : couteau pointu et sécateur.\nRDV à 9h00\nInscription préalable obligatoire au plus tard le vendredi 20 novembre jusqu’à 12h00\nIntervenant : Raymond OESTERLE\, artisan vannier\nParticipation : 45 € personne (matière première fournie)
URL:https://www.nature-munchhausen.org/event/la-vannerie/
LOCATION:Centre d’Initiation à la Nature et à l’Environnement de Munchhausen\, 42 rue du Rhin\, MUNCHHAUSEN\, 67470
ATTACH;FMTTYPE=image/jpeg:https://www.nature-munchhausen.org/wp-content/uploads/2021/11/Vannerie-29-fevrier-2020-37.jpg
END:VEVENT
BEGIN:VEVENT
DTSTART;TZID=Europe/Paris:20261208T090000
DTEND;TZID=Europe/Paris:20261208T183000
DTSTAMP:20260419T202440
CREATED:20221127T211805Z
LAST-MODIFIED:20251209T160954Z
UID:2466-1796720400-1796754600@www.nature-munchhausen.org
SUMMARY:Apprentis vanniers
DESCRIPTION:Activité jadis courante le long du Rhin\, la vannerie est aujourd’hui tombée en désuétude. Ce stage\nvous initiera\, à travers la fabrication d’un panier\, aux bases indispensables pour qui souhaite renouer\navec cette pratique ancienne.\nÀ prévoir : couteau pointu et sécateur.\nMunchhausen. Heure et lieu de RDV communiqués à l’inscription (obligatoire au plus tard le mardi 1er décembre jusqu’à 12h00)\nIntervenant : Raymond OESTERLE\, vannier amateur\nParticipation : 45 € (matières premières fournies)
URL:https://www.nature-munchhausen.org/event/apprentis-vanniers-4/
ATTACH;FMTTYPE=image/jpeg:https://www.nature-munchhausen.org/wp-content/uploads/2021/11/Vannerie-29-fevrier-2020-37.jpg
END:VEVENT
END:VCALENDAR