BEGIN:VCALENDAR
VERSION:2.0
PRODID:-//Maison de la Nature du Delta de la Sauer et d’Alsace du nord - ECPv6.15.18//NONSGML v1.0//EN
CALSCALE:GREGORIAN
METHOD:PUBLISH
X-WR-CALNAME:Maison de la Nature du Delta de la Sauer et d’Alsace du nord
X-ORIGINAL-URL:https://www.nature-munchhausen.org
X-WR-CALDESC:Évènements pour Maison de la Nature du Delta de la Sauer et d’Alsace du nord
REFRESH-INTERVAL;VALUE=DURATION:PT1H
X-Robots-Tag:noindex
X-PUBLISHED-TTL:PT1H
BEGIN:VTIMEZONE
TZID:Europe/Paris
BEGIN:DAYLIGHT
TZOFFSETFROM:+0100
TZOFFSETTO:+0200
TZNAME:CEST
DTSTART:20250330T010000
END:DAYLIGHT
BEGIN:STANDARD
TZOFFSETFROM:+0200
TZOFFSETTO:+0100
TZNAME:CET
DTSTART:20251026T010000
END:STANDARD
BEGIN:DAYLIGHT
TZOFFSETFROM:+0100
TZOFFSETTO:+0200
TZNAME:CEST
DTSTART:20260329T010000
END:DAYLIGHT
BEGIN:STANDARD
TZOFFSETFROM:+0200
TZOFFSETTO:+0100
TZNAME:CET
DTSTART:20261025T010000
END:STANDARD
BEGIN:DAYLIGHT
TZOFFSETFROM:+0100
TZOFFSETTO:+0200
TZNAME:CEST
DTSTART:20270328T010000
END:DAYLIGHT
BEGIN:STANDARD
TZOFFSETFROM:+0200
TZOFFSETTO:+0100
TZNAME:CET
DTSTART:20271031T010000
END:STANDARD
END:VTIMEZONE
BEGIN:VEVENT
DTSTART;TZID=Europe/Paris:20261018T140000
DTEND;TZID=Europe/Paris:20261018T170000
DTSTAMP:20260420T045722
CREATED:20250107T110005Z
LAST-MODIFIED:20251219T155851Z
UID:3222-1792332000-1792342800@www.nature-munchhausen.org
SUMMARY:Balade automnale
DESCRIPTION:Venez profiter des belles couleurs de la forêt en automne\, des trésors que celle-ci offre\, de l’air frais qui embaume les odeurs de terre et de bois\, écouter le craquement des feuilles sous les pas.. Offrez-vous un moment pour flâner dans la nature en compagnie de l’animatrice et du garde forestier qui vous feront découvrir les merveilles du milieu forestier. \nSortie organisée en partenariat avec la Communauté de communes de la Basse Zorn \nDimanche 18 octobre\, après-midi \nKurtzenhouse Heure et lieu de RDV communiqués à l’inscription (obligatoire au plus tard le vendredi 16 octobre jusqu’à 12h00) \nIntervenants : Magali SAVIO\, animatrice nature et Jean-Philippe SCHMITT\, garde forestier \nParticipation : Sortie non payante \nSortie adaptée aux personnes en situation de handicap
URL:https://www.nature-munchhausen.org/event/balade-automnale/
ATTACH;FMTTYPE=image/png:https://www.nature-munchhausen.org/wp-content/uploads/2025/01/Foret-BZ-10-24-15.png
END:VEVENT
END:VCALENDAR