BEGIN:VCALENDAR
VERSION:2.0
PRODID:-//Maison de la Nature du Delta de la Sauer et d’Alsace du nord - ECPv6.15.18//NONSGML v1.0//EN
CALSCALE:GREGORIAN
METHOD:PUBLISH
X-WR-CALNAME:Maison de la Nature du Delta de la Sauer et d’Alsace du nord
X-ORIGINAL-URL:https://www.nature-munchhausen.org
X-WR-CALDESC:Évènements pour Maison de la Nature du Delta de la Sauer et d’Alsace du nord
REFRESH-INTERVAL;VALUE=DURATION:PT1H
X-Robots-Tag:noindex
X-PUBLISHED-TTL:PT1H
BEGIN:VTIMEZONE
TZID:Europe/Paris
BEGIN:DAYLIGHT
TZOFFSETFROM:+0100
TZOFFSETTO:+0200
TZNAME:CEST
DTSTART:20250330T010000
END:DAYLIGHT
BEGIN:STANDARD
TZOFFSETFROM:+0200
TZOFFSETTO:+0100
TZNAME:CET
DTSTART:20251026T010000
END:STANDARD
BEGIN:DAYLIGHT
TZOFFSETFROM:+0100
TZOFFSETTO:+0200
TZNAME:CEST
DTSTART:20260329T010000
END:DAYLIGHT
BEGIN:STANDARD
TZOFFSETFROM:+0200
TZOFFSETTO:+0100
TZNAME:CET
DTSTART:20261025T010000
END:STANDARD
BEGIN:DAYLIGHT
TZOFFSETFROM:+0100
TZOFFSETTO:+0200
TZNAME:CEST
DTSTART:20270328T010000
END:DAYLIGHT
BEGIN:STANDARD
TZOFFSETFROM:+0200
TZOFFSETTO:+0100
TZNAME:CET
DTSTART:20271031T010000
END:STANDARD
END:VTIMEZONE
BEGIN:VEVENT
DTSTART;TZID=Europe/Paris:20260327T190000
DTEND;TZID=Europe/Paris:20260327T213000
DTSTAMP:20260419T215816
CREATED:20251219T154927Z
LAST-MODIFIED:20251219T154927Z
UID:3591-1774638000-1774647000@www.nature-munchhausen.org
SUMMARY:A la tombée de la nuit dans la nature
DESCRIPTION:Partez à la découverte des ambiances crépusculaires dans le vallon du Soultzbach. L’animatrice vous guidera sur les chemins le long du ruisseau et dans la forêt. Vous pourrez sans doute profiter d’un concert nocturne des habitants à poils et à plumes voire à peau lisse ! Cette nature toute proche vous dévoilera quelques-uns de ses secrets. \nSortie organisée en partenariat avec la mairie de Langensoultzbach \nVendredi 27 mars\, soirée \nLangensoultzbach Heure et lieu de RDV communiqués à l’inscription (obligatoire au plus tard le vendredi 27 mars jusqu’à 12h00) \nEnfant de + de 10 ans \nIntervenante : Magali SAVIO\, animatrice nature \nParticipation : Sortie non payante
URL:https://www.nature-munchhausen.org/event/a-la-tombee-de-la-nuit-dans-la-nature/
ATTACH;FMTTYPE=image/png:https://www.nature-munchhausen.org/wp-content/uploads/2023/06/IMG-20240629-WA0010.png
END:VEVENT
END:VCALENDAR