BEGIN:VCALENDAR
VERSION:2.0
PRODID:-//Maison de la Nature du Delta de la Sauer et d’Alsace du nord - ECPv6.15.18//NONSGML v1.0//EN
CALSCALE:GREGORIAN
METHOD:PUBLISH
X-ORIGINAL-URL:https://www.nature-munchhausen.org
X-WR-CALDESC:Évènements pour Maison de la Nature du Delta de la Sauer et d’Alsace du nord
REFRESH-INTERVAL;VALUE=DURATION:PT1H
X-Robots-Tag:noindex
X-PUBLISHED-TTL:PT1H
BEGIN:VTIMEZONE
TZID:Europe/Paris
BEGIN:DAYLIGHT
TZOFFSETFROM:+0100
TZOFFSETTO:+0200
TZNAME:CEST
DTSTART:20250330T010000
END:DAYLIGHT
BEGIN:STANDARD
TZOFFSETFROM:+0200
TZOFFSETTO:+0100
TZNAME:CET
DTSTART:20251026T010000
END:STANDARD
BEGIN:DAYLIGHT
TZOFFSETFROM:+0100
TZOFFSETTO:+0200
TZNAME:CEST
DTSTART:20260329T010000
END:DAYLIGHT
BEGIN:STANDARD
TZOFFSETFROM:+0200
TZOFFSETTO:+0100
TZNAME:CET
DTSTART:20261025T010000
END:STANDARD
BEGIN:DAYLIGHT
TZOFFSETFROM:+0100
TZOFFSETTO:+0200
TZNAME:CEST
DTSTART:20270328T010000
END:DAYLIGHT
BEGIN:STANDARD
TZOFFSETFROM:+0200
TZOFFSETTO:+0100
TZNAME:CET
DTSTART:20271031T010000
END:STANDARD
END:VTIMEZONE
BEGIN:VEVENT
DTSTART;TZID=Europe/Paris:20260315T090000
DTEND;TZID=Europe/Paris:20260315T120000
DTSTAMP:20260419T214751
CREATED:20240216T142130Z
LAST-MODIFIED:20260210T090205Z
UID:2972-1773565200-1773576000@www.nature-munchhausen.org
SUMMARY:Sur la piste du castor
DESCRIPTION:Le discret castor est de retour le long des rives de nos rivières… Partons à la recherche des indices de sa présence et découvrons son lieu de vie classé zone protégée\, la Moder\, un ancien bras du Rhin. \nSortie organisée dans le cadre du « printemps des castors » \nA prévoir : tenue vestimentaire adaptée aux conditions météorologiques\, et surtout de préférence des bottes. \nLa sortie peut être annulée en cas de conditions météo défavorables\, crues entre autres. \nFort-Louis \nHeure et lieu de RDV communiqués à l’inscription (obligatoire au plus tard le vendredi 13 mars jusqu’à 12h00) \nIntervenantes : Agnès BLATTNER et Isabelle KIEFFER\, animatrices bénévoles \nParticipation : Sortie non payante
URL:https://www.nature-munchhausen.org/event/sur-la-piste-du-castor-3/
ATTACH;FMTTYPE=image/jpeg:https://www.nature-munchhausen.org/wp-content/uploads/2022/03/castor-credit-photo-Agnes-Blattner.jpg
END:VEVENT
BEGIN:VEVENT
DTSTART;TZID=Europe/Paris:20260315T140000
DTEND;TZID=Europe/Paris:20260315T170000
DTSTAMP:20260419T214751
CREATED:20250107T111712Z
LAST-MODIFIED:20251219T154819Z
UID:3226-1773583200-1773594000@www.nature-munchhausen.org
SUMMARY:Vannerie sauvage
DESCRIPTION:Autrefois\, la bourdaine\, le cornouiller\, le jonc\, la ronce étaient connus pour leur propriété de tressage tout autant que le saule. L’animatrice vous propose d’apprendre à reconnaître ces plantes dans la nature et ensuite de les utiliser pour réaliser de petites créations simples en vannerie. \nSortie organisée en partenariat avec la Communauté de communes du Pays de Wissembourg \nDimanche 15 mars\, après-midi \nWissembourg \nHeure et lieu de RDV communiqués à l’inscription (obligatoire au plus tard le vendredi 6 mars jusqu’à 12h00) \nEnfants + de 12 ans \nIntervenante : Magali SAVIO\, animatrice nature \nParticipation : Sortie non payante \n  \n 
URL:https://www.nature-munchhausen.org/event/vannerie-sauvage/
ATTACH;FMTTYPE=image/png:https://www.nature-munchhausen.org/wp-content/uploads/2025/01/20241120_180619-bis.png
END:VEVENT
END:VCALENDAR