BEGIN:VCALENDAR
VERSION:2.0
PRODID:-//Maison de la Nature du Delta de la Sauer et d’Alsace du nord - ECPv6.15.18//NONSGML v1.0//EN
CALSCALE:GREGORIAN
METHOD:PUBLISH
X-ORIGINAL-URL:https://www.nature-munchhausen.org
X-WR-CALDESC:Évènements pour Maison de la Nature du Delta de la Sauer et d’Alsace du nord
REFRESH-INTERVAL;VALUE=DURATION:PT1H
X-Robots-Tag:noindex
X-PUBLISHED-TTL:PT1H
BEGIN:VTIMEZONE
TZID:Europe/Paris
BEGIN:DAYLIGHT
TZOFFSETFROM:+0100
TZOFFSETTO:+0200
TZNAME:CEST
DTSTART:20250330T010000
END:DAYLIGHT
BEGIN:STANDARD
TZOFFSETFROM:+0200
TZOFFSETTO:+0100
TZNAME:CET
DTSTART:20251026T010000
END:STANDARD
BEGIN:DAYLIGHT
TZOFFSETFROM:+0100
TZOFFSETTO:+0200
TZNAME:CEST
DTSTART:20260329T010000
END:DAYLIGHT
BEGIN:STANDARD
TZOFFSETFROM:+0200
TZOFFSETTO:+0100
TZNAME:CET
DTSTART:20261025T010000
END:STANDARD
BEGIN:DAYLIGHT
TZOFFSETFROM:+0100
TZOFFSETTO:+0200
TZNAME:CEST
DTSTART:20270328T010000
END:DAYLIGHT
BEGIN:STANDARD
TZOFFSETFROM:+0200
TZOFFSETTO:+0100
TZNAME:CET
DTSTART:20271031T010000
END:STANDARD
END:VTIMEZONE
BEGIN:VEVENT
DTSTART;TZID=Europe/Paris:20260308T093000
DTEND;TZID=Europe/Paris:20260308T123000
DTSTAMP:20260419T214613
CREATED:20220304T092057Z
LAST-MODIFIED:20260113T131326Z
UID:2169-1772962200-1772973000@www.nature-munchhausen.org
SUMMARY:La Grossmatt\, un coin de nature exceptionnel
DESCRIPTION:Venez vous promener le temps d’une matinée dans l’un des Espaces Naturels Sensibles (ENS) géré par la Collectivité européenne d’Alsace. Vous y découvrirez la biodiversité exceptionnelle qui s’y trouve et en apprendrez davantage sur la gestion mise en place pour restaure les dynamiques naturelles. \nA prévoir : chaussures imperméables voire bottes\, une paire de jumelles \nSortie organisée en partenariat avec la Collectivité européenne d’Alsace (CeA) \nLeutenheim. Heure et lieu de RDV communiqués à l’inscription (obligatoire au plus tard le vendredi 7 mars jusqu’à 15h00) \nIntervenante : Marion LY\, animatrice nature\nParticipation : sortie non payante
URL:https://www.nature-munchhausen.org/event/lespace-naturel-sensible-du-grossmatt-2/
LOCATION:Leutenheim
ATTACH;FMTTYPE=image/jpeg:https://www.nature-munchhausen.org/wp-content/uploads/2022/03/IMG_0402.jpg
END:VEVENT
END:VCALENDAR