BEGIN:VCALENDAR
VERSION:2.0
PRODID:-//Maison de la Nature du Delta de la Sauer et d’Alsace du nord - ECPv6.15.18//NONSGML v1.0//EN
CALSCALE:GREGORIAN
METHOD:PUBLISH
X-WR-CALNAME:Maison de la Nature du Delta de la Sauer et d’Alsace du nord
X-ORIGINAL-URL:https://www.nature-munchhausen.org
X-WR-CALDESC:Évènements pour Maison de la Nature du Delta de la Sauer et d’Alsace du nord
REFRESH-INTERVAL;VALUE=DURATION:PT1H
X-Robots-Tag:noindex
X-PUBLISHED-TTL:PT1H
BEGIN:VTIMEZONE
TZID:Europe/Paris
BEGIN:DAYLIGHT
TZOFFSETFROM:+0100
TZOFFSETTO:+0200
TZNAME:CEST
DTSTART:20250330T010000
END:DAYLIGHT
BEGIN:STANDARD
TZOFFSETFROM:+0200
TZOFFSETTO:+0100
TZNAME:CET
DTSTART:20251026T010000
END:STANDARD
BEGIN:DAYLIGHT
TZOFFSETFROM:+0100
TZOFFSETTO:+0200
TZNAME:CEST
DTSTART:20260329T010000
END:DAYLIGHT
BEGIN:STANDARD
TZOFFSETFROM:+0200
TZOFFSETTO:+0100
TZNAME:CET
DTSTART:20261025T010000
END:STANDARD
BEGIN:DAYLIGHT
TZOFFSETFROM:+0100
TZOFFSETTO:+0200
TZNAME:CEST
DTSTART:20270328T010000
END:DAYLIGHT
BEGIN:STANDARD
TZOFFSETFROM:+0200
TZOFFSETTO:+0100
TZNAME:CET
DTSTART:20271031T010000
END:STANDARD
END:VTIMEZONE
BEGIN:VEVENT
DTSTART;TZID=Europe/Paris:20260210T080000
DTEND;TZID=Europe/Paris:20260210T170000
DTSTAMP:20260419T232823
CREATED:20260210T091618Z
LAST-MODIFIED:20260210T091618Z
UID:3630-1770710400-1770742800@www.nature-munchhausen.org
SUMMARY:Immersion forestière
DESCRIPTION:Pionnière de la sylvothérapie dans les Vosges du Nord\, l’intervenante vous proposera une immersion au cœur de la forêt par l’expérience directe du vivant. Simple et authentique\, cette approche\, axée sur les perceptions sensorielles\, invite chacun à s’extraire de l’agitation quotidienne pour établir un échange rééquilibrant avec l’environnement naturel et prendre conscience de ses vertus thérapeutiques. \nSortie organisée en partenariat avec le Parc Naturel Régional des Vosges du Nord et la commune de Wingen \nWingen \nHeure et lieu de RDV communiqués à l’inscription (obligatoire au plus tard le vendredi 29 mai jusqu’à 12h00) \nIntervenante : Manuela Peschmann\, spécialiste en thérapie forestière \nParticipation : Animation non payante
URL:https://www.nature-munchhausen.org/event/immersion-forestiere/
ATTACH;FMTTYPE=image/jpeg:https://www.nature-munchhausen.org/wp-content/uploads/2026/02/Nouveau-projet.jpg
END:VEVENT
BEGIN:VEVENT
DTSTART;TZID=Europe/Paris:20260210T090000
DTEND;TZID=Europe/Paris:20260210T180000
DTSTAMP:20260419T232823
CREATED:20240114T200020Z
LAST-MODIFIED:20251219T160115Z
UID:2844-1770714000-1770746400@www.nature-munchhausen.org
SUMMARY:Apprentis vanniers
DESCRIPTION:Activité jadis courante le long du Rhin\, la vannerie est aujourd’hui tombée en désuétude. Ce stage vous initiera\, à travers la fabrication d’un panier\, aux bases indispensables pour qui souhaite renouer avec cette pratique ancienne. \nÀ prévoir : couteau pointu et sécateur. \nMardi 10 février\, journée \nMunchhausen. Heure et lieu de RDV communiqués à l’inscription (obligatoire au plus tard le mardi 3 février jusqu’à 12h00) \nIntervenant : Raymond OESTERLE\, vannier amateur \nParticipation : 45 € (matières premières fournies) \n  \nNous prenons en priorité les personnes qui participent pour la première fois à un stage vannerie.
URL:https://www.nature-munchhausen.org/event/apprentis-vanniers-5/
ATTACH;FMTTYPE=image/jpeg:https://www.nature-munchhausen.org/wp-content/uploads/2021/11/Vannerie-29-fevrier-2020-37.jpg
END:VEVENT
END:VCALENDAR