BEGIN:VCALENDAR
VERSION:2.0
PRODID:-//Maison de la Nature du Delta de la Sauer et d’Alsace du nord - ECPv6.15.18//NONSGML v1.0//EN
CALSCALE:GREGORIAN
METHOD:PUBLISH
X-WR-CALNAME:Maison de la Nature du Delta de la Sauer et d’Alsace du nord
X-ORIGINAL-URL:https://www.nature-munchhausen.org
X-WR-CALDESC:Évènements pour Maison de la Nature du Delta de la Sauer et d’Alsace du nord
REFRESH-INTERVAL;VALUE=DURATION:PT1H
X-Robots-Tag:noindex
X-PUBLISHED-TTL:PT1H
BEGIN:VTIMEZONE
TZID:Europe/Paris
BEGIN:DAYLIGHT
TZOFFSETFROM:+0100
TZOFFSETTO:+0200
TZNAME:CEST
DTSTART:20250330T010000
END:DAYLIGHT
BEGIN:STANDARD
TZOFFSETFROM:+0200
TZOFFSETTO:+0100
TZNAME:CET
DTSTART:20251026T010000
END:STANDARD
BEGIN:DAYLIGHT
TZOFFSETFROM:+0100
TZOFFSETTO:+0200
TZNAME:CEST
DTSTART:20260329T010000
END:DAYLIGHT
BEGIN:STANDARD
TZOFFSETFROM:+0200
TZOFFSETTO:+0100
TZNAME:CET
DTSTART:20261025T010000
END:STANDARD
BEGIN:DAYLIGHT
TZOFFSETFROM:+0100
TZOFFSETTO:+0200
TZNAME:CEST
DTSTART:20270328T010000
END:DAYLIGHT
BEGIN:STANDARD
TZOFFSETFROM:+0200
TZOFFSETTO:+0100
TZNAME:CET
DTSTART:20271031T010000
END:STANDARD
END:VTIMEZONE
BEGIN:VEVENT
DTSTART;TZID=Europe/Paris:20260208T140000
DTEND;TZID=Europe/Paris:20260208T170000
DTSTAMP:20260419T232725
CREATED:20170720T132324Z
LAST-MODIFIED:20251219T154702Z
UID:223-1770559200-1770570000@www.nature-munchhausen.org
SUMMARY:Les bourgeons\, des cachettes à feuilles
DESCRIPTION:En hiver\, difficile de différencier les arbres… Apprenez à reconnaître les arbres les plus communs grâce à leurs bourgeons. A chaque arbre son bourgeon : petit ou gros\, vert ou marron\, rond ou allongé ou encore sec ou collant… Bientôt les arbres en hiver n’auront plus de secrets pour vous ! \nSortie organisée en partenariat avec la Ville de Haguenau \nDimanche 8 février\, après-midi \nGros Chêne – Haguenau Heure et lieu de RDV communiqués à l’inscription (obligatoire au plus tard le vendredi 8 février jusqu’à 12h00) \nIntervenante : Magali SAVIO\, animatrice nature \nParticipation : Sortie non payante
URL:https://www.nature-munchhausen.org/event/les-bourgeons-des-cachettes-a-feuilles/
LOCATION:Betschdorf\, maison forestière Heuscheuer\, Haguenau
ATTACH;FMTTYPE=image/jpeg:https://www.nature-munchhausen.org/wp-content/uploads/2017/07/26-02-23-Bourgeons-1-slide.jpg
END:VEVENT
END:VCALENDAR