BEGIN:VCALENDAR
VERSION:2.0
PRODID:-//Maison de la Nature du Delta de la Sauer et d’Alsace du nord - ECPv6.15.18//NONSGML v1.0//EN
CALSCALE:GREGORIAN
METHOD:PUBLISH
X-ORIGINAL-URL:https://www.nature-munchhausen.org
X-WR-CALDESC:Évènements pour Maison de la Nature du Delta de la Sauer et d’Alsace du nord
REFRESH-INTERVAL;VALUE=DURATION:PT1H
X-Robots-Tag:noindex
X-PUBLISHED-TTL:PT1H
BEGIN:VTIMEZONE
TZID:Europe/Paris
BEGIN:DAYLIGHT
TZOFFSETFROM:+0100
TZOFFSETTO:+0200
TZNAME:CEST
DTSTART:20240331T010000
END:DAYLIGHT
BEGIN:STANDARD
TZOFFSETFROM:+0200
TZOFFSETTO:+0100
TZNAME:CET
DTSTART:20241027T010000
END:STANDARD
BEGIN:DAYLIGHT
TZOFFSETFROM:+0100
TZOFFSETTO:+0200
TZNAME:CEST
DTSTART:20250330T010000
END:DAYLIGHT
BEGIN:STANDARD
TZOFFSETFROM:+0200
TZOFFSETTO:+0100
TZNAME:CET
DTSTART:20251026T010000
END:STANDARD
BEGIN:DAYLIGHT
TZOFFSETFROM:+0100
TZOFFSETTO:+0200
TZNAME:CEST
DTSTART:20260329T010000
END:DAYLIGHT
BEGIN:STANDARD
TZOFFSETFROM:+0200
TZOFFSETTO:+0100
TZNAME:CET
DTSTART:20261025T010000
END:STANDARD
END:VTIMEZONE
BEGIN:VEVENT
DTSTART;TZID=Europe/Paris:20251018T090000
DTEND;TZID=Europe/Paris:20251018T113000
DTSTAMP:20260420T051454
CREATED:20250310T151435Z
LAST-MODIFIED:20250923T080004Z
UID:3358-1760778000-1760787000@www.nature-munchhausen.org
SUMMARY:Créations de cuillères et spatules en bois
DESCRIPTION:Une fois n’est pas coutume\, c’est reparti cette année.\nVenez-vous initiez au travail de bois en utilisant un banc à planer\, des planes\, couteaux croches etc. pour fabriquer une petite cuillère en bois ou une petite spatule \n  \nSamedi 18 octobre 2025\, matin \nMunchhausen. Heure et lieu de RDV communiqués à l’inscription (obligatoire au plus tard le vendredi 17 octobre jusqu’à 17h00) \n  \nIntervenant : Adrien BRANDSTETTER\, animateur nature \nParticipation :20€
URL:https://www.nature-munchhausen.org/event/creations-de-cuilleres-et-spatules-en-bois-3/
LOCATION:Munchhausen\, Munchhausen
ATTACH;FMTTYPE=image/png:https://www.nature-munchhausen.org/wp-content/uploads/2023/07/creation-cuilleres.png
END:VEVENT
END:VCALENDAR