BEGIN:VCALENDAR
VERSION:2.0
PRODID:-//Maison de la Nature du Delta de la Sauer et d’Alsace du nord - ECPv6.15.18//NONSGML v1.0//EN
CALSCALE:GREGORIAN
METHOD:PUBLISH
X-WR-CALNAME:Maison de la Nature du Delta de la Sauer et d’Alsace du nord
X-ORIGINAL-URL:https://www.nature-munchhausen.org
X-WR-CALDESC:Évènements pour Maison de la Nature du Delta de la Sauer et d’Alsace du nord
REFRESH-INTERVAL;VALUE=DURATION:PT1H
X-Robots-Tag:noindex
X-PUBLISHED-TTL:PT1H
BEGIN:VTIMEZONE
TZID:Europe/Paris
BEGIN:DAYLIGHT
TZOFFSETFROM:+0100
TZOFFSETTO:+0200
TZNAME:CEST
DTSTART:20240331T010000
END:DAYLIGHT
BEGIN:STANDARD
TZOFFSETFROM:+0200
TZOFFSETTO:+0100
TZNAME:CET
DTSTART:20241027T010000
END:STANDARD
BEGIN:DAYLIGHT
TZOFFSETFROM:+0100
TZOFFSETTO:+0200
TZNAME:CEST
DTSTART:20250330T010000
END:DAYLIGHT
BEGIN:STANDARD
TZOFFSETFROM:+0200
TZOFFSETTO:+0100
TZNAME:CET
DTSTART:20251026T010000
END:STANDARD
BEGIN:DAYLIGHT
TZOFFSETFROM:+0100
TZOFFSETTO:+0200
TZNAME:CEST
DTSTART:20260329T010000
END:DAYLIGHT
BEGIN:STANDARD
TZOFFSETFROM:+0200
TZOFFSETTO:+0100
TZNAME:CET
DTSTART:20261025T010000
END:STANDARD
END:VTIMEZONE
BEGIN:VEVENT
DTSTART;TZID=Europe/Paris:20250914T140000
DTEND;TZID=Europe/Paris:20250914T170000
DTSTAMP:20260420T064441
CREATED:20250106T133912Z
LAST-MODIFIED:20250106T133912Z
UID:3182-1757858400-1757869200@www.nature-munchhausen.org
SUMMARY:Histoires saugrenues de racines et de feuilles
DESCRIPTION:Imaginaires et drôles d’histoires seront les maîtres mots de ces quelques heures. Inventez-vous un monde au cœur de la nature qui ne ressemble à aucun autre. Saviez-vous que les vers de terre chantaient ? Ou que l’arbre de votre jardin part se promener en forêt la nuit ? Venez découvrir des histoires pas comme les autres ! \nSortie adaptée aux grands et aux petits à partir de 3 ans. \nSortie organisée en partenariat avec la Communauté de Communes de la Basse-Zorn \nDimanche 14 septembre\, après-midi \nKurtzenhouse. Heure et lieu de RDV communiqués à l’inscription (obligatoire au plus tard le vendredi 13 septembre jusqu’à 17h00)  \nIntervenante : Audrey Legland\, animatrice nature \nParticipation : sortie non payante
URL:https://www.nature-munchhausen.org/event/histoires-saugrenues-de-racines-et-de-feuilles-2/
ATTACH;FMTTYPE=image/jpeg:https://www.nature-munchhausen.org/wp-content/uploads/2025/01/Mousse.jpg
END:VEVENT
END:VCALENDAR