BEGIN:VCALENDAR
VERSION:2.0
PRODID:-//Maison de la Nature du Delta de la Sauer et d’Alsace du nord - ECPv6.15.18//NONSGML v1.0//EN
CALSCALE:GREGORIAN
METHOD:PUBLISH
X-ORIGINAL-URL:https://www.nature-munchhausen.org
X-WR-CALDESC:Évènements pour Maison de la Nature du Delta de la Sauer et d’Alsace du nord
REFRESH-INTERVAL;VALUE=DURATION:PT1H
X-Robots-Tag:noindex
X-PUBLISHED-TTL:PT1H
BEGIN:VTIMEZONE
TZID:Europe/Paris
BEGIN:DAYLIGHT
TZOFFSETFROM:+0100
TZOFFSETTO:+0200
TZNAME:CEST
DTSTART:20240331T010000
END:DAYLIGHT
BEGIN:STANDARD
TZOFFSETFROM:+0200
TZOFFSETTO:+0100
TZNAME:CET
DTSTART:20241027T010000
END:STANDARD
BEGIN:DAYLIGHT
TZOFFSETFROM:+0100
TZOFFSETTO:+0200
TZNAME:CEST
DTSTART:20250330T010000
END:DAYLIGHT
BEGIN:STANDARD
TZOFFSETFROM:+0200
TZOFFSETTO:+0100
TZNAME:CET
DTSTART:20251026T010000
END:STANDARD
BEGIN:DAYLIGHT
TZOFFSETFROM:+0100
TZOFFSETTO:+0200
TZNAME:CEST
DTSTART:20260329T010000
END:DAYLIGHT
BEGIN:STANDARD
TZOFFSETFROM:+0200
TZOFFSETTO:+0100
TZNAME:CET
DTSTART:20261025T010000
END:STANDARD
END:VTIMEZONE
BEGIN:VEVENT
DTSTART;TZID=Europe/Paris:20250913T090000
DTEND;TZID=Europe/Paris:20250913T113000
DTSTAMP:20260420T063941
CREATED:20250310T151216Z
LAST-MODIFIED:20250310T151216Z
UID:3355-1757754000-1757763000@www.nature-munchhausen.org
SUMMARY:A la découverte de la forêt
DESCRIPTION:Participez à une animation immersive qui vous plongera dans le monde enchanteur de la forêt ! Au programme : découverte de la faune et de la flore au cours d’une balade. Chaque pas en forêt vous réserve de nouvelles découvertes. Ouvrons les yeux. \nSortie organisée en partenariat avec la ville de Brumath \n  \nSamedi 13 Septembre 2025\, matin \nBrumath. Heure et lieu de RDV communiqués à l’inscription (obligatoire au plus tard le vendredi 12 septembre jusqu’à 17h00) \n  \nIntervenant : Adrien BRANDSTETTER\, animateur nature \nParticipation : sortie non payante
URL:https://www.nature-munchhausen.org/event/a-la-decouverte-de-la-foret-5/
LOCATION:Brumath\, Brumath
ATTACH;FMTTYPE=image/jpeg:https://www.nature-munchhausen.org/wp-content/uploads/2021/02/9-05-21-Natura-2000.jpg
END:VEVENT
END:VCALENDAR