BEGIN:VCALENDAR
VERSION:2.0
PRODID:-//Maison de la Nature du Delta de la Sauer et d’Alsace du nord - ECPv6.15.18//NONSGML v1.0//EN
CALSCALE:GREGORIAN
METHOD:PUBLISH
X-WR-CALNAME:Maison de la Nature du Delta de la Sauer et d’Alsace du nord
X-ORIGINAL-URL:https://www.nature-munchhausen.org
X-WR-CALDESC:Évènements pour Maison de la Nature du Delta de la Sauer et d’Alsace du nord
REFRESH-INTERVAL;VALUE=DURATION:PT1H
X-Robots-Tag:noindex
X-PUBLISHED-TTL:PT1H
BEGIN:VTIMEZONE
TZID:Europe/Paris
BEGIN:DAYLIGHT
TZOFFSETFROM:+0100
TZOFFSETTO:+0200
TZNAME:CEST
DTSTART:20240331T010000
END:DAYLIGHT
BEGIN:STANDARD
TZOFFSETFROM:+0200
TZOFFSETTO:+0100
TZNAME:CET
DTSTART:20241027T010000
END:STANDARD
BEGIN:DAYLIGHT
TZOFFSETFROM:+0100
TZOFFSETTO:+0200
TZNAME:CEST
DTSTART:20250330T010000
END:DAYLIGHT
BEGIN:STANDARD
TZOFFSETFROM:+0200
TZOFFSETTO:+0100
TZNAME:CET
DTSTART:20251026T010000
END:STANDARD
BEGIN:DAYLIGHT
TZOFFSETFROM:+0100
TZOFFSETTO:+0200
TZNAME:CEST
DTSTART:20260329T010000
END:DAYLIGHT
BEGIN:STANDARD
TZOFFSETFROM:+0200
TZOFFSETTO:+0100
TZNAME:CET
DTSTART:20261025T010000
END:STANDARD
END:VTIMEZONE
BEGIN:VEVENT
DTSTART;TZID=Europe/Paris:20250601T090000
DTEND;TZID=Europe/Paris:20250601T120000
DTSTAMP:20260420T105505
CREATED:20250520T081009Z
LAST-MODIFIED:20250520T081009Z
UID:3377-1748768400-1748779200@www.nature-munchhausen.org
SUMMARY:Nos voisins les insectes
DESCRIPTION:On croit parfois que pour observer des insectes incroyables\, il faut s’enfoncer dans une forêt primaire\, parcourir des vallées millénaires ou se hisser à la cime des arbres !\nEh bien\, partons ensemble\, à côté de chez nous\, pour voir que non loin de là\, de petites bêtes passionnantes sont nos voisines ! Leurs comportements étonnants\, les relations qu’elles tissent avec les plantes et leur environnement s’offrent à celles et ceux qui prennent le temps de les observer. \nA prévoir : tenue vestimentaire adaptée aux conditions météorologiques\nWissembourg. Heure et lieu de RDV communiqués à l’inscription (obligatoire au plus tard le vendredi 30 mai jusqu’à 12h00)\nIntervenant : Mathieu SANDRONE\, entomologiste \nParticipation : sortie non payante
URL:https://www.nature-munchhausen.org/event/nos-voisins-les-insectes/
ATTACH;FMTTYPE=image/jpeg:https://www.nature-munchhausen.org/wp-content/uploads/2025/01/Boudons-8.jpg
END:VEVENT
END:VCALENDAR