BEGIN:VCALENDAR
VERSION:2.0
PRODID:-//Maison de la Nature du Delta de la Sauer et d’Alsace du nord - ECPv6.15.18//NONSGML v1.0//EN
CALSCALE:GREGORIAN
METHOD:PUBLISH
X-WR-CALNAME:Maison de la Nature du Delta de la Sauer et d’Alsace du nord
X-ORIGINAL-URL:https://www.nature-munchhausen.org
X-WR-CALDESC:Évènements pour Maison de la Nature du Delta de la Sauer et d’Alsace du nord
REFRESH-INTERVAL;VALUE=DURATION:PT1H
X-Robots-Tag:noindex
X-PUBLISHED-TTL:PT1H
BEGIN:VTIMEZONE
TZID:Europe/Paris
BEGIN:DAYLIGHT
TZOFFSETFROM:+0100
TZOFFSETTO:+0200
TZNAME:CEST
DTSTART:20240331T010000
END:DAYLIGHT
BEGIN:STANDARD
TZOFFSETFROM:+0200
TZOFFSETTO:+0100
TZNAME:CET
DTSTART:20241027T010000
END:STANDARD
BEGIN:DAYLIGHT
TZOFFSETFROM:+0100
TZOFFSETTO:+0200
TZNAME:CEST
DTSTART:20250330T010000
END:DAYLIGHT
BEGIN:STANDARD
TZOFFSETFROM:+0200
TZOFFSETTO:+0100
TZNAME:CET
DTSTART:20251026T010000
END:STANDARD
BEGIN:DAYLIGHT
TZOFFSETFROM:+0100
TZOFFSETTO:+0200
TZNAME:CEST
DTSTART:20260329T010000
END:DAYLIGHT
BEGIN:STANDARD
TZOFFSETFROM:+0200
TZOFFSETTO:+0100
TZNAME:CET
DTSTART:20261025T010000
END:STANDARD
END:VTIMEZONE
BEGIN:VEVENT
DTSTART;TZID=Europe/Paris:20250525T140000
DTEND;TZID=Europe/Paris:20250525T170000
DTSTAMP:20260420T122012
CREATED:20250107T103509Z
LAST-MODIFIED:20250107T104116Z
UID:3208-1748181600-1748192400@www.nature-munchhausen.org
SUMMARY:Le vallon du Soultzbach : des étangs aux petites mares
DESCRIPTION:En 2021\, les étangs de la Nonnenhardt ont été rayés de la carte. D’immenses engins ont travaillé sur le chantier pour redonner au vallon sa forme d’avant endiguement pour créer des étangs. Pendant quelques mois\, la nature a souffert de ces travaux mais elle est résiliente et au printemps 2022\, les grenouilles s’étaient déjà appropriées les mares créées le long du ruisseau. Venez découvrir les enjeux de ces travaux de renaturation et comment la nature s’est réappropriée les lieux grâce aux explications des deux intervenantes. \nSortie organisée en partenariat avec le Parc Naturel Régional des Vosges du Nord \nDimanche 25 mai\, après-midi \nLangensoultzbach Heure et lieu de RDV communiqués à l’inscription (obligatoire au plus tard le vendredi 23 mai jusqu’à 17h00) \nIntervenantes : Martine STIEFEL\, adjointe au maire de Langensoultzbach et Magali SAVIO\, animatrice nature \nParticipation : gratuit
URL:https://www.nature-munchhausen.org/event/le-vallon-du-soultzbach-des-etangs-aux-petites-mares/
ATTACH;FMTTYPE=image/png:https://www.nature-munchhausen.org/wp-content/uploads/2025/01/PRA-Langensoultzbach-16-juillet-23-2.png
END:VEVENT
END:VCALENDAR