BEGIN:VCALENDAR
VERSION:2.0
PRODID:-//Maison de la Nature du Delta de la Sauer et d’Alsace du nord - ECPv6.15.18//NONSGML v1.0//EN
CALSCALE:GREGORIAN
METHOD:PUBLISH
X-WR-CALNAME:Maison de la Nature du Delta de la Sauer et d’Alsace du nord
X-ORIGINAL-URL:https://www.nature-munchhausen.org
X-WR-CALDESC:Évènements pour Maison de la Nature du Delta de la Sauer et d’Alsace du nord
REFRESH-INTERVAL;VALUE=DURATION:PT1H
X-Robots-Tag:noindex
X-PUBLISHED-TTL:PT1H
BEGIN:VTIMEZONE
TZID:Europe/Paris
BEGIN:DAYLIGHT
TZOFFSETFROM:+0100
TZOFFSETTO:+0200
TZNAME:CEST
DTSTART:20240331T010000
END:DAYLIGHT
BEGIN:STANDARD
TZOFFSETFROM:+0200
TZOFFSETTO:+0100
TZNAME:CET
DTSTART:20241027T010000
END:STANDARD
BEGIN:DAYLIGHT
TZOFFSETFROM:+0100
TZOFFSETTO:+0200
TZNAME:CEST
DTSTART:20250330T010000
END:DAYLIGHT
BEGIN:STANDARD
TZOFFSETFROM:+0200
TZOFFSETTO:+0100
TZNAME:CET
DTSTART:20251026T010000
END:STANDARD
BEGIN:DAYLIGHT
TZOFFSETFROM:+0100
TZOFFSETTO:+0200
TZNAME:CEST
DTSTART:20260329T010000
END:DAYLIGHT
BEGIN:STANDARD
TZOFFSETFROM:+0200
TZOFFSETTO:+0100
TZNAME:CET
DTSTART:20261025T010000
END:STANDARD
END:VTIMEZONE
BEGIN:VEVENT
DTSTART;TZID=Europe/Paris:20250517T140000
DTEND;TZID=Europe/Paris:20250517T170000
DTSTAMP:20260420T121933
CREATED:20230215T102721Z
LAST-MODIFIED:20250107T103045Z
UID:2583-1747490400-1747501200@www.nature-munchhausen.org
SUMMARY:A la découverte des abeilles
DESCRIPTION:Raymond et Magali vous feront découvrir au cours de l’après-midi le monde fascinant des abeilles. Au programme : ouverture de ruches\, découverte ludique de la société des abeilles\, dégustation de miels…\nSortie organisée en partenariat avec la ville de Brumath \nSamedi 17 mai\, après-midi \nBrumath. Heure et lieu de RDV communiqués à l’inscription (obligatoire au plus tard le vendredi 16 mai jusqu’à 17h00) \nIntervenants : Raymond SCHLACHTER\, apiculteur amateur et Magali SAVIO\, animatrice nature \nParticipation : sortie non payante  \nA partir de 8 ans
URL:https://www.nature-munchhausen.org/event/a-la-decouverte-des-oiseaux/
ATTACH;FMTTYPE=image/jpeg:https://www.nature-munchhausen.org/wp-content/uploads/2022/03/07-26-22-Apiculture-1.jpg
END:VEVENT
END:VCALENDAR