BEGIN:VCALENDAR
VERSION:2.0
PRODID:-//Maison de la Nature du Delta de la Sauer et d’Alsace du nord - ECPv6.15.18//NONSGML v1.0//EN
CALSCALE:GREGORIAN
METHOD:PUBLISH
X-ORIGINAL-URL:https://www.nature-munchhausen.org
X-WR-CALDESC:Évènements pour Maison de la Nature du Delta de la Sauer et d’Alsace du nord
REFRESH-INTERVAL;VALUE=DURATION:PT1H
X-Robots-Tag:noindex
X-PUBLISHED-TTL:PT1H
BEGIN:VTIMEZONE
TZID:Europe/Paris
BEGIN:DAYLIGHT
TZOFFSETFROM:+0100
TZOFFSETTO:+0200
TZNAME:CEST
DTSTART:20240331T010000
END:DAYLIGHT
BEGIN:STANDARD
TZOFFSETFROM:+0200
TZOFFSETTO:+0100
TZNAME:CET
DTSTART:20241027T010000
END:STANDARD
BEGIN:DAYLIGHT
TZOFFSETFROM:+0100
TZOFFSETTO:+0200
TZNAME:CEST
DTSTART:20250330T010000
END:DAYLIGHT
BEGIN:STANDARD
TZOFFSETFROM:+0200
TZOFFSETTO:+0100
TZNAME:CET
DTSTART:20251026T010000
END:STANDARD
BEGIN:DAYLIGHT
TZOFFSETFROM:+0100
TZOFFSETTO:+0200
TZNAME:CEST
DTSTART:20260329T010000
END:DAYLIGHT
BEGIN:STANDARD
TZOFFSETFROM:+0200
TZOFFSETTO:+0100
TZNAME:CET
DTSTART:20261025T010000
END:STANDARD
END:VTIMEZONE
BEGIN:VEVENT
DTSTART;TZID=Europe/Paris:20250323T140000
DTEND;TZID=Europe/Paris:20250323T163000
DTSTAMP:20260420T145143
CREATED:20250310T145611Z
LAST-MODIFIED:20250310T145611Z
UID:3347-1742738400-1742747400@www.nature-munchhausen.org
SUMMARY:Créations de nature
DESCRIPTION:Lors de cette animation\, petits et grands auront l’occasion d’explorer de la nature\, de découvrir différents végétaux et comment les utiliser. Vous pourrez fabriquer vos propres instruments de musiques\, jouets de nature avec des éléments naturels glanés aux alentours. \nSortie organisée en partenariat avec la ville de Haguenau \nDimanche 23 mars 2025\, après-midi \nHaguenau . Heure et lieu de RDV communiqués à l’inscription (obligatoire au plus tard le vendredi 28 mars jusqu’à 17h00) \n  \nIntervenant : Adrien BRANDSTETTER\, animateur nature \nParticipation : sortie non payante
URL:https://www.nature-munchhausen.org/event/creations-de-nature/
LOCATION:Haguenau\, Hagueneau
ATTACH;FMTTYPE=image/png:https://www.nature-munchhausen.org/wp-content/uploads/2022/03/05-21-22-Jouets-buissoniers.png
END:VEVENT
END:VCALENDAR