BEGIN:VCALENDAR
VERSION:2.0
PRODID:-//Maison de la Nature du Delta de la Sauer et d’Alsace du nord - ECPv6.15.18//NONSGML v1.0//EN
CALSCALE:GREGORIAN
METHOD:PUBLISH
X-ORIGINAL-URL:https://www.nature-munchhausen.org
X-WR-CALDESC:Évènements pour Maison de la Nature du Delta de la Sauer et d’Alsace du nord
REFRESH-INTERVAL;VALUE=DURATION:PT1H
X-Robots-Tag:noindex
X-PUBLISHED-TTL:PT1H
BEGIN:VTIMEZONE
TZID:Europe/Paris
BEGIN:DAYLIGHT
TZOFFSETFROM:+0100
TZOFFSETTO:+0200
TZNAME:CEST
DTSTART:20230326T010000
END:DAYLIGHT
BEGIN:STANDARD
TZOFFSETFROM:+0200
TZOFFSETTO:+0100
TZNAME:CET
DTSTART:20231029T010000
END:STANDARD
BEGIN:DAYLIGHT
TZOFFSETFROM:+0100
TZOFFSETTO:+0200
TZNAME:CEST
DTSTART:20240331T010000
END:DAYLIGHT
BEGIN:STANDARD
TZOFFSETFROM:+0200
TZOFFSETTO:+0100
TZNAME:CET
DTSTART:20241027T010000
END:STANDARD
BEGIN:DAYLIGHT
TZOFFSETFROM:+0100
TZOFFSETTO:+0200
TZNAME:CEST
DTSTART:20250330T010000
END:DAYLIGHT
BEGIN:STANDARD
TZOFFSETFROM:+0200
TZOFFSETTO:+0100
TZNAME:CET
DTSTART:20251026T010000
END:STANDARD
END:VTIMEZONE
BEGIN:VEVENT
DTSTART;TZID=Europe/Paris:20241012T093000
DTEND;TZID=Europe/Paris:20241012T120000
DTSTAMP:20260420T213518
CREATED:20240208T094937Z
LAST-MODIFIED:20240208T094937Z
UID:2936-1728725400-1728734400@www.nature-munchhausen.org
SUMMARY:Land'art d'automne
DESCRIPTION:L’automne\, avec ses couleurs flamboyantes\, est la saison parfaite pour s’initier à cet art éphémère.\nPetits et grands pourront participer à cette activité ludique et artistique\, tout en profitant d’un bain\nde nature. \nA prévoir : tenue vestimentaire adaptée aux conditions météorologiques \nSortie organisée en partenariat avec la ville de Haguenau \nHaguenau \nHeure et lieu de RDV communiqués à l’inscription (obligatoire au plus tard le vendredi 11 octobre jusqu’à 17h00) \nIntervenante : Lucie TARLAO\, animatrice nature \nParticipation : sortie non payante
URL:https://www.nature-munchhausen.org/event/landart-dautomne/
ATTACH;FMTTYPE=image/jpeg:https://www.nature-munchhausen.org/wp-content/uploads/2021/03/8-7-21-Land-art.jpg
END:VEVENT
END:VCALENDAR