BEGIN:VCALENDAR
VERSION:2.0
PRODID:-//Maison de la Nature du Delta de la Sauer et d’Alsace du nord - ECPv6.15.18//NONSGML v1.0//EN
CALSCALE:GREGORIAN
METHOD:PUBLISH
X-ORIGINAL-URL:https://www.nature-munchhausen.org
X-WR-CALDESC:Évènements pour Maison de la Nature du Delta de la Sauer et d’Alsace du nord
REFRESH-INTERVAL;VALUE=DURATION:PT1H
X-Robots-Tag:noindex
X-PUBLISHED-TTL:PT1H
BEGIN:VTIMEZONE
TZID:Europe/Paris
BEGIN:DAYLIGHT
TZOFFSETFROM:+0100
TZOFFSETTO:+0200
TZNAME:CEST
DTSTART:20230326T010000
END:DAYLIGHT
BEGIN:STANDARD
TZOFFSETFROM:+0200
TZOFFSETTO:+0100
TZNAME:CET
DTSTART:20231029T010000
END:STANDARD
BEGIN:DAYLIGHT
TZOFFSETFROM:+0100
TZOFFSETTO:+0200
TZNAME:CEST
DTSTART:20240331T010000
END:DAYLIGHT
BEGIN:STANDARD
TZOFFSETFROM:+0200
TZOFFSETTO:+0100
TZNAME:CET
DTSTART:20241027T010000
END:STANDARD
BEGIN:DAYLIGHT
TZOFFSETFROM:+0100
TZOFFSETTO:+0200
TZNAME:CEST
DTSTART:20250330T010000
END:DAYLIGHT
BEGIN:STANDARD
TZOFFSETFROM:+0200
TZOFFSETTO:+0100
TZNAME:CET
DTSTART:20251026T010000
END:STANDARD
END:VTIMEZONE
BEGIN:VEVENT
DTSTART;TZID=Europe/Paris:20240929T140000
DTEND;TZID=Europe/Paris:20240929T170000
DTSTAMP:20260420T231836
CREATED:20240826T132402Z
LAST-MODIFIED:20240826T133332Z
UID:3064-1727618400-1727629200@www.nature-munchhausen.org
SUMMARY:Fruits sauvages des haies et lisières
DESCRIPTION:Chênes\, aubépines\, troènes\, hêtres\, prunelliers et autres cornouillers offrent leurs fruits\, par millions\, aux oiseaux et aux petits mammifères. Nous aussi en profitons pour confectionner de délicieuses confitures\, des tartes et toutes sortes de préparations succulentes. Mais comment s’assurer que le fruit de notre récolte est bien comestible ? Quelles sont les espèces dont il faut se méfier ? Pour répondre à ces questions\, rien ne vaut une petite balade le long des lisières et des haies. \nSortie organisée en partenariat avec la Communauté de Communes du Pays de Wissembourg \nRott. Renseignements et inscription à la Maison de la Nature au 03 88 86 51 67 \nIntervenant : Pascal GEROLD\, animateur nature / Participation : sortie non payante \n  \n 
URL:https://www.nature-munchhausen.org/event/fruits-sauvages-des-haies-et-lisieres/
LOCATION:Rott\, Mairie 44 Rue Principale\, Rott
ATTACH;FMTTYPE=image/jpeg:https://www.nature-munchhausen.org/wp-content/uploads/2022/04/07-20-2022_Sortie-cueillette-sauvage.jpg
END:VEVENT
END:VCALENDAR