BEGIN:VCALENDAR
VERSION:2.0
PRODID:-//Maison de la Nature du Delta de la Sauer et d’Alsace du nord - ECPv6.15.18//NONSGML v1.0//EN
CALSCALE:GREGORIAN
METHOD:PUBLISH
X-WR-CALNAME:Maison de la Nature du Delta de la Sauer et d’Alsace du nord
X-ORIGINAL-URL:https://www.nature-munchhausen.org
X-WR-CALDESC:Évènements pour Maison de la Nature du Delta de la Sauer et d’Alsace du nord
REFRESH-INTERVAL;VALUE=DURATION:PT1H
X-Robots-Tag:noindex
X-PUBLISHED-TTL:PT1H
BEGIN:VTIMEZONE
TZID:Europe/Paris
BEGIN:DAYLIGHT
TZOFFSETFROM:+0100
TZOFFSETTO:+0200
TZNAME:CEST
DTSTART:20230326T010000
END:DAYLIGHT
BEGIN:STANDARD
TZOFFSETFROM:+0200
TZOFFSETTO:+0100
TZNAME:CET
DTSTART:20231029T010000
END:STANDARD
BEGIN:DAYLIGHT
TZOFFSETFROM:+0100
TZOFFSETTO:+0200
TZNAME:CEST
DTSTART:20240331T010000
END:DAYLIGHT
BEGIN:STANDARD
TZOFFSETFROM:+0200
TZOFFSETTO:+0100
TZNAME:CET
DTSTART:20241027T010000
END:STANDARD
BEGIN:DAYLIGHT
TZOFFSETFROM:+0100
TZOFFSETTO:+0200
TZNAME:CEST
DTSTART:20250330T010000
END:DAYLIGHT
BEGIN:STANDARD
TZOFFSETFROM:+0200
TZOFFSETTO:+0100
TZNAME:CET
DTSTART:20251026T010000
END:STANDARD
END:VTIMEZONE
BEGIN:VEVENT
DTSTART;TZID=Europe/Paris:20240915T093000
DTEND;TZID=Europe/Paris:20240915T170000
DTSTAMP:20260420T231710
CREATED:20240120T145452Z
LAST-MODIFIED:20240805T093359Z
UID:2887-1726392600-1726419600@www.nature-munchhausen.org
SUMMARY:La nature au pas de l'âne
DESCRIPTION:Venez découvrir la faune et la flore des Vosges du Nord au rythme des ânes qui porteront votre pique-nique et vos boissons. Bella\, Anémone\, Shreck et Violette sauront par des petits chemins vous emmener à la rencontre des trésors de la forêt. \nDimanche 15 septembre\, journée \nMitschdorf. Heure et lieu de RDV communiqués à l’inscription (obligatoire au plus tard le vendredi 13 septembre jusqu’à 17h00) \nIntervenants : René SCHNEPP\, ânier et Magali SAVIO\, animatrice nature \nParticipation : 15 € / adulte et 10 € / enfant
URL:https://www.nature-munchhausen.org/event/la-nature-au-pas-de-lane-3/
ATTACH;FMTTYPE=image/jpeg:https://www.nature-munchhausen.org/wp-content/uploads/2024/01/15-septembre-Anes-3.jpg
END:VEVENT
END:VCALENDAR