BEGIN:VCALENDAR
VERSION:2.0
PRODID:-//Maison de la Nature du Delta de la Sauer et d’Alsace du nord - ECPv6.15.18//NONSGML v1.0//EN
CALSCALE:GREGORIAN
METHOD:PUBLISH
X-WR-CALNAME:Maison de la Nature du Delta de la Sauer et d’Alsace du nord
X-ORIGINAL-URL:https://www.nature-munchhausen.org
X-WR-CALDESC:Évènements pour Maison de la Nature du Delta de la Sauer et d’Alsace du nord
REFRESH-INTERVAL;VALUE=DURATION:PT1H
X-Robots-Tag:noindex
X-PUBLISHED-TTL:PT1H
BEGIN:VTIMEZONE
TZID:Europe/Paris
BEGIN:DAYLIGHT
TZOFFSETFROM:+0100
TZOFFSETTO:+0200
TZNAME:CEST
DTSTART:20230326T010000
END:DAYLIGHT
BEGIN:STANDARD
TZOFFSETFROM:+0200
TZOFFSETTO:+0100
TZNAME:CET
DTSTART:20231029T010000
END:STANDARD
BEGIN:DAYLIGHT
TZOFFSETFROM:+0100
TZOFFSETTO:+0200
TZNAME:CEST
DTSTART:20240331T010000
END:DAYLIGHT
BEGIN:STANDARD
TZOFFSETFROM:+0200
TZOFFSETTO:+0100
TZNAME:CET
DTSTART:20241027T010000
END:STANDARD
BEGIN:DAYLIGHT
TZOFFSETFROM:+0100
TZOFFSETTO:+0200
TZNAME:CEST
DTSTART:20250330T010000
END:DAYLIGHT
BEGIN:STANDARD
TZOFFSETFROM:+0200
TZOFFSETTO:+0100
TZNAME:CET
DTSTART:20251026T010000
END:STANDARD
END:VTIMEZONE
BEGIN:VEVENT
DTSTART;TZID=Europe/Paris:20240913T190000
DTEND;TZID=Europe/Paris:20240913T210000
DTSTAMP:20260420T231711
CREATED:20240506T140716Z
LAST-MODIFIED:20240529T122605Z
UID:2994-1726254000-1726261200@www.nature-munchhausen.org
SUMMARY:Sortie crépusculaire
DESCRIPTION:  \nLorsque le jour laisse place à la nuit\, une nouvelle ambiance mystérieuse s’installe dans la nature. \nLors de cette sortie\, redécouvrez la nature de nuit ainsi que les habitants qui la peuplent. \nSortie à partir de 10ans. \nSortie organisée en partenariat avec la ville de Haguenau \n  \nVendredi 13 septembre\, soirée \nHaguenau. Heure et lieu de RDV communiqués à l’inscription (obligatoire au plus tard le Jeudi 12 septembre jusqu’à 17h00)
URL:https://www.nature-munchhausen.org/event/sortie-crepusculaire/
LOCATION:Haguenau\, Hagueneau
ATTACH;FMTTYPE=image/jpeg:https://www.nature-munchhausen.org/wp-content/uploads/2022/03/05-06-22-Crepusculaire-Munchhausen.jpg
END:VEVENT
END:VCALENDAR